BEGIN:VCALENDAR
VERSION:2.0
PRODID:-//Rodgers Baptist Church - ECPv6.15.20//NONSGML v1.0//EN
CALSCALE:GREGORIAN
METHOD:PUBLISH
X-ORIGINAL-URL:https://rodgersbaptist.net
X-WR-CALDESC:Events for Rodgers Baptist Church
REFRESH-INTERVAL;VALUE=DURATION:PT1H
X-Robots-Tag:noindex
X-PUBLISHED-TTL:PT1H
BEGIN:VTIMEZONE
TZID:America/Chicago
BEGIN:DAYLIGHT
TZOFFSETFROM:-0600
TZOFFSETTO:-0500
TZNAME:CDT
DTSTART:20240310T080000
END:DAYLIGHT
BEGIN:STANDARD
TZOFFSETFROM:-0500
TZOFFSETTO:-0600
TZNAME:CST
DTSTART:20241103T070000
END:STANDARD
BEGIN:DAYLIGHT
TZOFFSETFROM:-0600
TZOFFSETTO:-0500
TZNAME:CDT
DTSTART:20250309T080000
END:DAYLIGHT
BEGIN:STANDARD
TZOFFSETFROM:-0500
TZOFFSETTO:-0600
TZNAME:CST
DTSTART:20251102T070000
END:STANDARD
BEGIN:DAYLIGHT
TZOFFSETFROM:-0600
TZOFFSETTO:-0500
TZNAME:CDT
DTSTART:20260308T080000
END:DAYLIGHT
BEGIN:STANDARD
TZOFFSETFROM:-0500
TZOFFSETTO:-0600
TZNAME:CST
DTSTART:20261101T070000
END:STANDARD
END:VTIMEZONE
BEGIN:VEVENT
DTSTART;TZID=America/Chicago:20251122T080000
DTEND;TZID=America/Chicago:20251122T100000
DTSTAMP:20260421T041244
CREATED:20251026T213519Z
LAST-MODIFIED:20251129T021021Z
UID:10004753-1763798400-1763805600@rodgersbaptist.net
SUMMARY:Bibles & Bacon
DESCRIPTION:Our next men’s prayer breakfast will be on Saturday\, November 22\, 2025. We will enjoy a hearty breakfast\, fellowship\, prayer\, and time in God’s Word. Bro. Steve Walker will be giving the devotion. The cost is $5\, and you can register at the church welcome desk or by clicking here.
URL:https://rodgersbaptist.net/event/bibles-bacon/
LOCATION:Rodgers Baptist Church\, 801 W. Buckingham Rd\, Garland\, TX\, 75040\, United States
CATEGORIES:Men's Events
ATTACH;FMTTYPE=image/png:https://rodgersbaptist.net/wp-content/uploads/2025/10/Bibles-Bacon.png
ORGANIZER;CN="Pastor Travis Gilbert":MAILTO:pastortravis@rodgersbaptist.net
END:VEVENT
BEGIN:VEVENT
DTSTART;TZID=America/Chicago:20251122T100000
DTEND;TZID=America/Chicago:20251122T130000
DTSTAMP:20260421T041244
CREATED:20251026T213609Z
LAST-MODIFIED:20251129T021056Z
UID:10004754-1763805600-1763816400@rodgersbaptist.net
SUMMARY:Youth Service Project
DESCRIPTION:On Saturday\, November 22\, the RBC Student Ministry will head to First Baptist Academy to partner with Texans on Mission for a Messages of Hope project\, writing scriptures and encouragement for families affected by disasters.\n\nWe will meet at Rodgers at 10am and will return by 1pm. Participants need to bring money for lunch.
URL:https://rodgersbaptist.net/event/youth-fellowship/
LOCATION:Rodgers Baptist Church\, 801 W. Buckingham Rd\, Garland\, TX\, 75040\, United States
CATEGORIES:Youth Events
ATTACH;FMTTYPE=image/png:https://rodgersbaptist.net/wp-content/uploads/2025/10/Service.png.png
ORGANIZER;CN="Jason Smith":MAILTO:jsmith@rodgersbaptist.net
END:VEVENT
END:VCALENDAR