BEGIN:VCALENDAR
VERSION:2.0
PRODID:-//Rodgers Baptist Church - ECPv6.15.20//NONSGML v1.0//EN
CALSCALE:GREGORIAN
METHOD:PUBLISH
X-ORIGINAL-URL:https://rodgersbaptist.net
X-WR-CALDESC:Events for Rodgers Baptist Church
REFRESH-INTERVAL;VALUE=DURATION:PT1H
X-Robots-Tag:noindex
X-PUBLISHED-TTL:PT1H
BEGIN:VTIMEZONE
TZID:America/Chicago
BEGIN:DAYLIGHT
TZOFFSETFROM:-0600
TZOFFSETTO:-0500
TZNAME:CDT
DTSTART:20240310T080000
END:DAYLIGHT
BEGIN:STANDARD
TZOFFSETFROM:-0500
TZOFFSETTO:-0600
TZNAME:CST
DTSTART:20241103T070000
END:STANDARD
BEGIN:DAYLIGHT
TZOFFSETFROM:-0600
TZOFFSETTO:-0500
TZNAME:CDT
DTSTART:20250309T080000
END:DAYLIGHT
BEGIN:STANDARD
TZOFFSETFROM:-0500
TZOFFSETTO:-0600
TZNAME:CST
DTSTART:20251102T070000
END:STANDARD
BEGIN:DAYLIGHT
TZOFFSETFROM:-0600
TZOFFSETTO:-0500
TZNAME:CDT
DTSTART:20260308T080000
END:DAYLIGHT
BEGIN:STANDARD
TZOFFSETFROM:-0500
TZOFFSETTO:-0600
TZNAME:CST
DTSTART:20261101T070000
END:STANDARD
END:VTIMEZONE
BEGIN:VEVENT
DTSTART;TZID=America/Chicago:20251207T091500
DTEND;TZID=America/Chicago:20251207T101000
DTSTAMP:20260423T234517
CREATED:20251027T032628Z
LAST-MODIFIED:20260124T195712Z
UID:10007987-1765098900-1765102200@rodgersbaptist.net
SUMMARY:LIFE Groups
DESCRIPTION:While elementary students are in their Sunday School classes\, teens and adults at Rodgers Baptist Church meet in their LIFE Groups for small group Bible Study. Our LIFE Groups Learn\, Invite\, Fellowship\, and Engage with others in similar life stages as we seek to live out the gospel in our daily lives. \nClasses & Locations\n\n0 to pre-K: Nursery rooms in the front entrance hall\nKindergarten to 5th grade: Elementary department upstairs above the front entrance hall\n6th grade to 12th grade: Youth department upstairs above the fellowship hall\nCrossroads: Upstairs above the fellowship hall\nHomebuilders: Upstairs above the fellowship hall\nAmbassadors: Upstairs above the fellowship hall\nCrusaders I: Fellowship Hall\nCrusaders II: Choir Room
URL:https://rodgersbaptist.net/event/life-groups-sunday-school-2/2025-12-07/
LOCATION:Rodgers Baptist Church\, 801 W. Buckingham Rd\, Garland\, TX\, 75040\, United States
CATEGORIES:All Church Event,Children's Events,LIFE Groups,Youth Events
END:VEVENT
BEGIN:VEVENT
DTSTART;TZID=America/Chicago:20251207T103000
DTEND;TZID=America/Chicago:20251207T120000
DTSTAMP:20260423T234517
CREATED:20251027T032148Z
LAST-MODIFIED:20260124T195744Z
UID:10008260-1765103400-1765108800@rodgersbaptist.net
SUMMARY:Sunday Morning Worship
DESCRIPTION:Join us in the sanctuary for a time of worship through music followed by our Sunday morning message series on Jesus the Sovereign Servant in the Gospel of Mark. During this time\, we will also have Junior Church for kids from 4 years old through 1st grade and Children’s Church for kids in 2nd through 5th grade. These classes are held upstairs in the Elementary Department. We also have nursery services available for babies and toddlers in rooms along the front entrance hallway.
URL:https://rodgersbaptist.net/event/sunday-morning-worship-2/2025-12-07/
LOCATION:Rodgers Baptist Church\, 801 W. Buckingham Rd\, Garland\, TX\, 75040\, United States
CATEGORIES:All Church Event
END:VEVENT
BEGIN:VEVENT
DTSTART;TZID=America/Chicago:20251207T120000
DTEND;TZID=America/Chicago:20251207T133000
DTSTAMP:20260423T234517
CREATED:20251121T034707Z
LAST-MODIFIED:20251129T021235Z
UID:10006320-1765108800-1765114200@rodgersbaptist.net
SUMMARY:Reception for Bro. Sam Jones
DESCRIPTION:RBC appreciates and has been blessed by Bro. Sam Jones’ ministry among us. His obvious love for the Lord and enthusiasm for worship have encouraged and guided us all. In honor of his interim ministry at RBC\, we will host a reception in his honor following the morning service on December 7\, his last Sunday with us. We will present him with a love offering at that time. There will be no evening service on December 7. The church will provide lunch.
URL:https://rodgersbaptist.net/event/reception-for-bro-sam-jones/
LOCATION:Rodgers Baptist Church\, 801 W. Buckingham Rd\, Garland\, TX\, 75040\, United States
CATEGORIES:All Church Event
END:VEVENT
BEGIN:VEVENT
DTSTART;TZID=America/Chicago:20251207T133000
DTEND;TZID=America/Chicago:20251207T150000
DTSTAMP:20260423T234517
CREATED:20251121T034525Z
LAST-MODIFIED:20251129T021254Z
UID:10002681-1765114200-1765119600@rodgersbaptist.net
SUMMARY:Afternoon Worship Service
DESCRIPTION:Following the morning service on Sunday\, December 7th\, we will have a reception to thank Bro. Sam Jones for his ministry these past few months as interim music director. This will be followed by an afternoon service. There will be no evening service.
URL:https://rodgersbaptist.net/event/sunday-evening-worship-2-3/
LOCATION:Rodgers Baptist Church\, 801 W. Buckingham Rd\, Garland\, TX\, 75040\, United States
CATEGORIES:All Church Event
END:VEVENT
END:VCALENDAR