BEGIN:VCALENDAR
VERSION:2.0
PRODID:-//Rodgers Baptist Church - ECPv6.15.20//NONSGML v1.0//EN
CALSCALE:GREGORIAN
METHOD:PUBLISH
X-WR-CALNAME:Rodgers Baptist Church
X-ORIGINAL-URL:https://rodgersbaptist.net
X-WR-CALDESC:Events for Rodgers Baptist Church
REFRESH-INTERVAL;VALUE=DURATION:PT1H
X-Robots-Tag:noindex
X-PUBLISHED-TTL:PT1H
BEGIN:VTIMEZONE
TZID:America/Chicago
BEGIN:DAYLIGHT
TZOFFSETFROM:-0600
TZOFFSETTO:-0500
TZNAME:CDT
DTSTART:20250309T080000
END:DAYLIGHT
BEGIN:STANDARD
TZOFFSETFROM:-0500
TZOFFSETTO:-0600
TZNAME:CST
DTSTART:20251102T070000
END:STANDARD
BEGIN:DAYLIGHT
TZOFFSETFROM:-0600
TZOFFSETTO:-0500
TZNAME:CDT
DTSTART:20260308T080000
END:DAYLIGHT
BEGIN:STANDARD
TZOFFSETFROM:-0500
TZOFFSETTO:-0600
TZNAME:CST
DTSTART:20261101T070000
END:STANDARD
BEGIN:DAYLIGHT
TZOFFSETFROM:-0600
TZOFFSETTO:-0500
TZNAME:CDT
DTSTART:20270314T080000
END:DAYLIGHT
BEGIN:STANDARD
TZOFFSETFROM:-0500
TZOFFSETTO:-0600
TZNAME:CST
DTSTART:20271107T070000
END:STANDARD
END:VTIMEZONE
BEGIN:VEVENT
DTSTART;TZID=America/Chicago:20260208T120000
DTEND;TZID=America/Chicago:20260208T140000
DTSTAMP:20260420T175853
CREATED:20251215T000021Z
LAST-MODIFIED:20260131T013208Z
UID:10009905-1770552000-1770559200@rodgersbaptist.net
SUMMARY:Rodgers Rovers Valentines Project
DESCRIPTION:On Sunday\, February 8th\, the Rodgers Rovers will go out to lunch at Whataburger on Buckingham after the morning service. Afterward we will go to Park Garland Senior Home. Bro. Malcolm will give a devotional and then we will pass out our flower arrangements and cookies to the residents. Sign up at the welcome center.
URL:https://rodgersbaptist.net/event/rodgers-rovers-3/
LOCATION:Rodgers Baptist Church\, 801 W. Buckingham Rd\, Garland\, TX\, 75040\, United States
CATEGORIES:LIFE Groups
ATTACH;FMTTYPE=image/png:https://rodgersbaptist.net/wp-content/uploads/2025/12/Rodgers-Rovers-Templates.png
END:VEVENT
END:VCALENDAR