BEGIN:VCALENDAR
VERSION:2.0
PRODID:-//Rodgers Baptist Church - ECPv6.15.20//NONSGML v1.0//EN
CALSCALE:GREGORIAN
METHOD:PUBLISH
X-WR-CALNAME:Rodgers Baptist Church
X-ORIGINAL-URL:https://rodgersbaptist.net
X-WR-CALDESC:Events for Rodgers Baptist Church
REFRESH-INTERVAL;VALUE=DURATION:PT1H
X-Robots-Tag:noindex
X-PUBLISHED-TTL:PT1H
BEGIN:VTIMEZONE
TZID:America/Chicago
BEGIN:DAYLIGHT
TZOFFSETFROM:-0600
TZOFFSETTO:-0500
TZNAME:CDT
DTSTART:20250309T080000
END:DAYLIGHT
BEGIN:STANDARD
TZOFFSETFROM:-0500
TZOFFSETTO:-0600
TZNAME:CST
DTSTART:20251102T070000
END:STANDARD
BEGIN:DAYLIGHT
TZOFFSETFROM:-0600
TZOFFSETTO:-0500
TZNAME:CDT
DTSTART:20260308T080000
END:DAYLIGHT
BEGIN:STANDARD
TZOFFSETFROM:-0500
TZOFFSETTO:-0600
TZNAME:CST
DTSTART:20261101T070000
END:STANDARD
BEGIN:DAYLIGHT
TZOFFSETFROM:-0600
TZOFFSETTO:-0500
TZNAME:CDT
DTSTART:20270314T080000
END:DAYLIGHT
BEGIN:STANDARD
TZOFFSETFROM:-0500
TZOFFSETTO:-0600
TZNAME:CST
DTSTART:20271107T070000
END:STANDARD
END:VTIMEZONE
BEGIN:VEVENT
DTSTART;TZID=America/Chicago:20260303T183000
DTEND;TZID=America/Chicago:20260303T200000
DTSTAMP:20260420T125405
CREATED:20251215T000054Z
LAST-MODIFIED:20251219T002814Z
UID:10009828-1772562600-1772568000@rodgersbaptist.net
SUMMARY:RBC Book Club
DESCRIPTION:Our church’s Book Club meets every two months to enjoy a potluck-style dinner and discuss the three books we read since the last meeting. Anyone interested in joining can contact us to get the book list and to learn more about the theme for the dinner.
URL:https://rodgersbaptist.net/event/rbc-book-club-2/2026-03-03/
LOCATION:Rodgers Baptist Church\, 801 W. Buckingham Rd\, Garland\, TX\, 75040\, United States
CATEGORIES:All Church Event
ATTACH;FMTTYPE=image/png:https://rodgersbaptist.net/wp-content/uploads/2025/10/Book-Club.png
END:VEVENT
BEGIN:VEVENT
DTSTART;TZID=America/Chicago:20260305T084500
DTEND;TZID=America/Chicago:20260305T150000
DTSTAMP:20260420T125405
CREATED:20251215T000034Z
LAST-MODIFIED:20260302T224024Z
UID:10009913-1772700300-1772722800@rodgersbaptist.net
SUMMARY:Rodgers Rovers "East Texas Daffodils"
DESCRIPTION:The Rodgers Rovers will take the minibus to Gladewater\, TX\, on Thursday\, March 5th\, to see Mrs. Lee’s Daffodil Garden. Meet at the church at 8:45am. We will have lunch and be back in the late afternoon. Please sign up at the welcome desk.
URL:https://rodgersbaptist.net/event/rodgers-rovers-4/
LOCATION:Rodgers Baptist Church\, 801 W. Buckingham Rd\, Garland\, TX\, 75040\, United States
CATEGORIES:LIFE Groups
ATTACH;FMTTYPE=image/png:https://rodgersbaptist.net/wp-content/uploads/2025/12/Rodgers-Rovers-Templates-1.png
END:VEVENT
BEGIN:VEVENT
DTSTART;TZID=America/Chicago:20260313T190000
DTEND;TZID=America/Chicago:20260313T210000
DTSTAMP:20260420T125405
CREATED:20251215T000048Z
LAST-MODIFIED:20260218T035440Z
UID:10009914-1773428400-1773435600@rodgersbaptist.net
SUMMARY:"The Verdict That Matters"
DESCRIPTION:On Friday\, March 13\, and Saturday\, March 14\, our “Acting in Faith” ministry will present “The Verdict that Matters\,” a play written and directed by our Minister of Music\, Bro. Joshua Walker. You will witness a courtroom unlike any other—a dramatization of guilt\, grace\, justice\, and mercy. A man stands accused\, and his family bears the weight of his choices. As truth is uncovered and accusations fly\, a greater story unfolds: one of substitution\, redemption\, and the eternal verdict that truly matters.  More information is available at https://rodgersbaptist.net/the-verdict-that-matters/.
URL:https://rodgersbaptist.net/event/the-verdict-that-matters/2026-03-13/
LOCATION:Rodgers Baptist Church\, 801 W. Buckingham Rd\, Garland\, TX\, 75040\, United States
CATEGORIES:All Church Event
ATTACH;FMTTYPE=image/png:https://rodgersbaptist.net/wp-content/uploads/2025/12/The-Verdict-That-Matters-Banner.png
ORGANIZER;CN="Joshua Walker":MAILTO:jwalker@rodgersbaptist.net
END:VEVENT
BEGIN:VEVENT
DTSTART;TZID=America/Chicago:20260314T190000
DTEND;TZID=America/Chicago:20260314T210000
DTSTAMP:20260420T125405
CREATED:20251215T000048Z
LAST-MODIFIED:20260218T035440Z
UID:10009915-1773514800-1773522000@rodgersbaptist.net
SUMMARY:"The Verdict That Matters"
DESCRIPTION:On Friday\, March 13\, and Saturday\, March 14\, our “Acting in Faith” ministry will present “The Verdict that Matters\,” a play written and directed by our Minister of Music\, Bro. Joshua Walker. You will witness a courtroom unlike any other—a dramatization of guilt\, grace\, justice\, and mercy. A man stands accused\, and his family bears the weight of his choices. As truth is uncovered and accusations fly\, a greater story unfolds: one of substitution\, redemption\, and the eternal verdict that truly matters.  More information is available at https://rodgersbaptist.net/the-verdict-that-matters/.
URL:https://rodgersbaptist.net/event/the-verdict-that-matters/2026-03-14/
LOCATION:Rodgers Baptist Church\, 801 W. Buckingham Rd\, Garland\, TX\, 75040\, United States
CATEGORIES:All Church Event
ATTACH;FMTTYPE=image/png:https://rodgersbaptist.net/wp-content/uploads/2025/12/The-Verdict-That-Matters-Banner.png
ORGANIZER;CN="Joshua Walker":MAILTO:jwalker@rodgersbaptist.net
END:VEVENT
BEGIN:VEVENT
DTSTART;TZID=America/Chicago:20260315T193000
DTEND;TZID=America/Chicago:20260315T210000
DTSTAMP:20260420T125405
CREATED:20251215T000003Z
LAST-MODIFIED:20260213T024701Z
UID:10009916-1773603000-1773608400@rodgersbaptist.net
SUMMARY:Youth "Let's Go" to Twisted Trompo
DESCRIPTION:Our March Youth “Let’s Go” event will be on Sunday\, March 15th\, after the evening service. We will be going to Twisted Trompo on Broadway. Families are welcome to join. Teens can be picked up at the restaurant at 8:45 or at the church at 9pm.
URL:https://rodgersbaptist.net/event/youth-lets-go-4/
LOCATION:Twisted Trompo\, 3036 Broadway Blvd\, Garland\, 75041\, United States
CATEGORIES:Youth Events
ATTACH;FMTTYPE=image/png:https://rodgersbaptist.net/wp-content/uploads/2025/10/RBC-Student-Ministires-Tentative-Logo-1.png
ORGANIZER;CN="Jason Smith":MAILTO:jsmith@rodgersbaptist.net
END:VEVENT
BEGIN:VEVENT
DTSTART;TZID=America/Chicago:20260320T200000
DTEND;TZID=America/Chicago:20260321T080000
DTSTAMP:20260420T125405
CREATED:20251215T000036Z
LAST-MODIFIED:20260304T195707Z
UID:10009917-1774036800-1774080000@rodgersbaptist.net
SUMMARY:Youth Lock-In
DESCRIPTION:All teens are welcome to join us for our Spring Break Youth Lock-In\, March 20-21\, from 8pm to 8am. Contact Bro. Jason Smith for more details and to register: jsmith@rodgersbaptist.net.
URL:https://rodgersbaptist.net/event/youth-lock-in/
LOCATION:Rodgers Baptist Church\, 801 W. Buckingham Rd\, Garland\, TX\, 75040\, United States
CATEGORIES:Youth Events
ATTACH;FMTTYPE=image/png:https://rodgersbaptist.net/wp-content/uploads/2025/12/Youth-Lock-In.png
ORGANIZER;CN="Jason Smith":MAILTO:jsmith@rodgersbaptist.net
END:VEVENT
BEGIN:VEVENT
DTSTART;TZID=America/Chicago:20260327T183000
DTEND;TZID=America/Chicago:20260327T200000
DTSTAMP:20260420T125405
CREATED:20260222T184620Z
LAST-MODIFIED:20260304T200246Z
UID:10010049-1774636200-1774641600@rodgersbaptist.net
SUMMARY:Ladies' Night Out
DESCRIPTION:Join us on Friday\, March 27th\, at 6:30pm in the fellowship hall for our first ladies’ fellowship of 2026! Bring a dish and join us for fellowship. We’ll also be kicking off our prayer partner initiative for the year. \nPlease bring a dish according to your last name: \n\nA-G: Main Dish\nH-N: Side Dish\nO-Z: Dessert\n\nThe church will provide tea and water. If you’d like to have another beverage\, please bring some to share.
URL:https://rodgersbaptist.net/event/ladies-night-out/
LOCATION:Rodgers Baptist Church\, 801 W. Buckingham Rd\, Garland\, TX\, 75040\, United States
CATEGORIES:Ladies' Events
ATTACH;FMTTYPE=image/png:https://rodgersbaptist.net/wp-content/uploads/2026/02/Ladies-Night-Out.png
END:VEVENT
BEGIN:VEVENT
DTSTART;TZID=America/Chicago:20260328T080000
DTEND;TZID=America/Chicago:20260328T100000
DTSTAMP:20260420T125405
CREATED:20251215T000021Z
LAST-MODIFIED:20260302T224338Z
UID:10009918-1774684800-1774692000@rodgersbaptist.net
SUMMARY:Bibles & Bacon with Special Speaker Todd Houck
DESCRIPTION:Our next men’s prayer breakfast will be on Saturday\, March 28\, 2026. We will enjoy a hearty breakfast\, fellowship\, prayer\, and time in God’s Word. The cost is $5. Sign up at the welcome desk or online here.
URL:https://rodgersbaptist.net/event/bibles-bacon-with-special-speaker-todd-houck/
LOCATION:Rodgers Baptist Church\, 801 W. Buckingham Rd\, Garland\, TX\, 75040\, United States
CATEGORIES:Men's Events
ATTACH;FMTTYPE=image/png:https://rodgersbaptist.net/wp-content/uploads/2025/10/Bibles-Bacon.png
END:VEVENT
BEGIN:VEVENT
DTSTART;TZID=America/Chicago:20260329T103000
DTEND;TZID=America/Chicago:20260329T143000
DTSTAMP:20260420T125405
CREATED:20251215T000009Z
LAST-MODIFIED:20260305T220514Z
UID:10009920-1774780200-1774794600@rodgersbaptist.net
SUMMARY:Fellowship Sunday with Special Speaker Todd Houck
DESCRIPTION:Sunday\, March 29\, is Fellowship Sunday. Bro. Todd Houck of Temple Baptist Church in Hot Springs\, Arkansas\, will be our guest speaker. We will have a meal together after the morning service in the gym. Everyone is invited to bring a main dish\, side\, and dessert to share. There will be no evening service on this day.
URL:https://rodgersbaptist.net/event/fellowship-sunday-with-special-speaker-todd-houck/
LOCATION:Rodgers Baptist Church\, 801 W. Buckingham Rd\, Garland\, TX\, 75040\, United States
CATEGORIES:All Church Event
ATTACH;FMTTYPE=image/png:https://rodgersbaptist.net/wp-content/uploads/2025/12/Fellowship-Sunday.png
END:VEVENT
END:VCALENDAR