BEGIN:VCALENDAR
VERSION:2.0
PRODID:-//Rodgers Baptist Church - ECPv6.15.20//NONSGML v1.0//EN
CALSCALE:GREGORIAN
METHOD:PUBLISH
X-ORIGINAL-URL:https://rodgersbaptist.net
X-WR-CALDESC:Events for Rodgers Baptist Church
REFRESH-INTERVAL;VALUE=DURATION:PT1H
X-Robots-Tag:noindex
X-PUBLISHED-TTL:PT1H
BEGIN:VTIMEZONE
TZID:America/Chicago
BEGIN:DAYLIGHT
TZOFFSETFROM:-0600
TZOFFSETTO:-0500
TZNAME:CDT
DTSTART:20250309T080000
END:DAYLIGHT
BEGIN:STANDARD
TZOFFSETFROM:-0500
TZOFFSETTO:-0600
TZNAME:CST
DTSTART:20251102T070000
END:STANDARD
BEGIN:DAYLIGHT
TZOFFSETFROM:-0600
TZOFFSETTO:-0500
TZNAME:CDT
DTSTART:20260308T080000
END:DAYLIGHT
BEGIN:STANDARD
TZOFFSETFROM:-0500
TZOFFSETTO:-0600
TZNAME:CST
DTSTART:20261101T070000
END:STANDARD
BEGIN:DAYLIGHT
TZOFFSETFROM:-0600
TZOFFSETTO:-0500
TZNAME:CDT
DTSTART:20270314T080000
END:DAYLIGHT
BEGIN:STANDARD
TZOFFSETFROM:-0500
TZOFFSETTO:-0600
TZNAME:CST
DTSTART:20271107T070000
END:STANDARD
END:VTIMEZONE
BEGIN:VEVENT
DTSTART;TZID=America/Chicago:20260601T090000
DTEND;TZID=America/Chicago:20260601T121500
DTSTAMP:20260420T143604
CREATED:20251215T000007Z
LAST-MODIFIED:20260406T212527Z
UID:10009944-1780304400-1780316100@rodgersbaptist.net
SUMMARY:Vacation Bible School
DESCRIPTION:Join us for “Illumination Station”! Enjoy music\, Bible study\, games\, crafts\, snacks and more as we learn how we can shine bright in a dark world. While many people claim to know about Jesus\, many are in the dark about who He really is. During VBS kids will explore all the ways light brightens\, illuminates\, reflects\, and reveals. Click here to find out more and to register!
URL:https://rodgersbaptist.net/event/vacation-bible-school/2026-06-01/
LOCATION:Rodgers Baptist Church\, 801 W. Buckingham Rd\, Garland\, TX\, 75040\, United States
CATEGORIES:Children's Events
ATTACH;FMTTYPE=image/jpeg:https://rodgersbaptist.net/wp-content/uploads/2025/10/Illumination-Station.jpg
END:VEVENT
BEGIN:VEVENT
DTSTART;TZID=America/Chicago:20260602T090000
DTEND;TZID=America/Chicago:20260602T121500
DTSTAMP:20260420T143604
CREATED:20251215T000007Z
LAST-MODIFIED:20260406T212527Z
UID:10009945-1780390800-1780402500@rodgersbaptist.net
SUMMARY:Vacation Bible School
DESCRIPTION:Join us for “Illumination Station”! Enjoy music\, Bible study\, games\, crafts\, snacks and more as we learn how we can shine bright in a dark world. While many people claim to know about Jesus\, many are in the dark about who He really is. During VBS kids will explore all the ways light brightens\, illuminates\, reflects\, and reveals. Click here to find out more and to register!
URL:https://rodgersbaptist.net/event/vacation-bible-school/2026-06-02/
LOCATION:Rodgers Baptist Church\, 801 W. Buckingham Rd\, Garland\, TX\, 75040\, United States
CATEGORIES:Children's Events
ATTACH;FMTTYPE=image/jpeg:https://rodgersbaptist.net/wp-content/uploads/2025/10/Illumination-Station.jpg
END:VEVENT
BEGIN:VEVENT
DTSTART;TZID=America/Chicago:20260603T090000
DTEND;TZID=America/Chicago:20260603T121500
DTSTAMP:20260420T143604
CREATED:20251215T000007Z
LAST-MODIFIED:20260406T212527Z
UID:10009946-1780477200-1780488900@rodgersbaptist.net
SUMMARY:Vacation Bible School
DESCRIPTION:Join us for “Illumination Station”! Enjoy music\, Bible study\, games\, crafts\, snacks and more as we learn how we can shine bright in a dark world. While many people claim to know about Jesus\, many are in the dark about who He really is. During VBS kids will explore all the ways light brightens\, illuminates\, reflects\, and reveals. Click here to find out more and to register!
URL:https://rodgersbaptist.net/event/vacation-bible-school/2026-06-03/
LOCATION:Rodgers Baptist Church\, 801 W. Buckingham Rd\, Garland\, TX\, 75040\, United States
CATEGORIES:Children's Events
ATTACH;FMTTYPE=image/jpeg:https://rodgersbaptist.net/wp-content/uploads/2025/10/Illumination-Station.jpg
END:VEVENT
BEGIN:VEVENT
DTSTART;TZID=America/Chicago:20260603T190000
DTEND;TZID=America/Chicago:20260603T203000
DTSTAMP:20260420T143604
CREATED:20251215T000048Z
LAST-MODIFIED:20251213T030604Z
UID:10009949-1780513200-1780518600@rodgersbaptist.net
SUMMARY:VBS Family Night
DESCRIPTION:VBS families are invited to join us on Wednesday\, June 3\, for VBS Family Night! During the service\, you will get to sing along with our VBS songs\, meet our skit team\, and hear from God’s Word the lessons your child has been learning. Afterward\, join us in the fellowship hall for pizza and a chance to meet your child’s teacher.
URL:https://rodgersbaptist.net/event/vbs-family-night/
LOCATION:Rodgers Baptist Church\, 801 W. Buckingham Rd\, Garland\, TX\, 75040\, United States
CATEGORIES:All Church Event,Children's Events
END:VEVENT
BEGIN:VEVENT
DTSTART;TZID=America/Chicago:20260604T090000
DTEND;TZID=America/Chicago:20260604T121500
DTSTAMP:20260420T143604
CREATED:20251215T000007Z
LAST-MODIFIED:20260406T212527Z
UID:10009947-1780563600-1780575300@rodgersbaptist.net
SUMMARY:Vacation Bible School
DESCRIPTION:Join us for “Illumination Station”! Enjoy music\, Bible study\, games\, crafts\, snacks and more as we learn how we can shine bright in a dark world. While many people claim to know about Jesus\, many are in the dark about who He really is. During VBS kids will explore all the ways light brightens\, illuminates\, reflects\, and reveals. Click here to find out more and to register!
URL:https://rodgersbaptist.net/event/vacation-bible-school/2026-06-04/
LOCATION:Rodgers Baptist Church\, 801 W. Buckingham Rd\, Garland\, TX\, 75040\, United States
CATEGORIES:Children's Events
ATTACH;FMTTYPE=image/jpeg:https://rodgersbaptist.net/wp-content/uploads/2025/10/Illumination-Station.jpg
END:VEVENT
BEGIN:VEVENT
DTSTART;TZID=America/Chicago:20260605T090000
DTEND;TZID=America/Chicago:20260605T121500
DTSTAMP:20260420T143604
CREATED:20251215T000007Z
LAST-MODIFIED:20260406T212527Z
UID:10009948-1780650000-1780661700@rodgersbaptist.net
SUMMARY:Vacation Bible School
DESCRIPTION:Join us for “Illumination Station”! Enjoy music\, Bible study\, games\, crafts\, snacks and more as we learn how we can shine bright in a dark world. While many people claim to know about Jesus\, many are in the dark about who He really is. During VBS kids will explore all the ways light brightens\, illuminates\, reflects\, and reveals. Click here to find out more and to register!
URL:https://rodgersbaptist.net/event/vacation-bible-school/2026-06-05/
LOCATION:Rodgers Baptist Church\, 801 W. Buckingham Rd\, Garland\, TX\, 75040\, United States
CATEGORIES:Children's Events
ATTACH;FMTTYPE=image/jpeg:https://rodgersbaptist.net/wp-content/uploads/2025/10/Illumination-Station.jpg
END:VEVENT
BEGIN:VEVENT
DTSTART;TZID=America/Chicago:20260611T100000
DTEND;TZID=America/Chicago:20260611T120000
DTSTAMP:20260420T143604
CREATED:20251215T000017Z
LAST-MODIFIED:20251213T031021Z
UID:10009950-1781172000-1781179200@rodgersbaptist.net
SUMMARY:Rodgers Rovers
DESCRIPTION:The June Rodgers Rovers event will be held on Thursday\, June 11th. Check back later for more information.
URL:https://rodgersbaptist.net/event/rodgers-rovers-7/
LOCATION:Rodgers Baptist Church\, 801 W. Buckingham Rd\, Garland\, TX\, 75040\, United States
CATEGORIES:LIFE Groups
END:VEVENT
BEGIN:VEVENT
DTSTART;TZID=America/Chicago:20260613T180000
DTEND;TZID=America/Chicago:20260613T200000
DTSTAMP:20260420T143604
CREATED:20251215T000047Z
LAST-MODIFIED:20251213T031221Z
UID:10009951-1781373600-1781380800@rodgersbaptist.net
SUMMARY:Youth Board Game Night
DESCRIPTION:RBC Student Ministry teens will get together on Saturday\, June 13th\, for a board game night. Check back later for more information.
URL:https://rodgersbaptist.net/event/youth-board-game-night/
LOCATION:Rodgers Baptist Church\, 801 W. Buckingham Rd\, Garland\, TX\, 75040\, United States
CATEGORIES:Youth Events
END:VEVENT
BEGIN:VEVENT
DTSTART;TZID=America/Chicago:20260629T110000
DTEND;TZID=America/Chicago:20260703T130000
DTSTAMP:20260420T143604
CREATED:20251215T000022Z
LAST-MODIFIED:20251213T032756Z
UID:10009955-1782730800-1783083600@rodgersbaptist.net
SUMMARY:Church Camp
DESCRIPTION:Church Camp 2026 will be June 29-July 3rd! Check back later for more information.
URL:https://rodgersbaptist.net/event/church-camp/
LOCATION:Rodgers Baptist Church\, 801 W. Buckingham Rd\, Garland\, TX\, 75040\, United States
CATEGORIES:Youth Events
ORGANIZER;CN="Jason Smith":MAILTO:jsmith@rodgersbaptist.net
END:VEVENT
END:VCALENDAR