BEGIN:VCALENDAR
VERSION:2.0
PRODID:-//Rodgers Baptist Church - ECPv6.15.20//NONSGML v1.0//EN
CALSCALE:GREGORIAN
METHOD:PUBLISH
X-ORIGINAL-URL:https://rodgersbaptist.net
X-WR-CALDESC:Events for Rodgers Baptist Church
REFRESH-INTERVAL;VALUE=DURATION:PT1H
X-Robots-Tag:noindex
X-PUBLISHED-TTL:PT1H
BEGIN:VTIMEZONE
TZID:America/Chicago
BEGIN:DAYLIGHT
TZOFFSETFROM:-0600
TZOFFSETTO:-0500
TZNAME:CDT
DTSTART:20250309T080000
END:DAYLIGHT
BEGIN:STANDARD
TZOFFSETFROM:-0500
TZOFFSETTO:-0600
TZNAME:CST
DTSTART:20251102T070000
END:STANDARD
BEGIN:DAYLIGHT
TZOFFSETFROM:-0600
TZOFFSETTO:-0500
TZNAME:CDT
DTSTART:20260308T080000
END:DAYLIGHT
BEGIN:STANDARD
TZOFFSETFROM:-0500
TZOFFSETTO:-0600
TZNAME:CST
DTSTART:20261101T070000
END:STANDARD
BEGIN:DAYLIGHT
TZOFFSETFROM:-0600
TZOFFSETTO:-0500
TZNAME:CDT
DTSTART:20270314T080000
END:DAYLIGHT
BEGIN:STANDARD
TZOFFSETFROM:-0500
TZOFFSETTO:-0600
TZNAME:CST
DTSTART:20271107T070000
END:STANDARD
END:VTIMEZONE
BEGIN:VEVENT
DTSTART;TZID=America/Chicago:20260629T110000
DTEND;TZID=America/Chicago:20260703T130000
DTSTAMP:20260419T162607
CREATED:20251215T000022Z
LAST-MODIFIED:20251213T032756Z
UID:10009955-1782730800-1783083600@rodgersbaptist.net
SUMMARY:Church Camp
DESCRIPTION:Church Camp 2026 will be June 29-July 3rd! Check back later for more information.
URL:https://rodgersbaptist.net/event/church-camp/
LOCATION:Rodgers Baptist Church\, 801 W. Buckingham Rd\, Garland\, TX\, 75040\, United States
CATEGORIES:Youth Events
ORGANIZER;CN="Jason Smith":MAILTO:jsmith@rodgersbaptist.net
END:VEVENT
BEGIN:VEVENT
DTSTART;TZID=America/Chicago:20260701T190000
DTEND;TZID=America/Chicago:20260701T200000
DTSTAMP:20260419T162607
CREATED:20251027T032506Z
LAST-MODIFIED:20251219T002335Z
UID:10007725-1782932400-1782936000@rodgersbaptist.net
SUMMARY:Bible Clubhouse
DESCRIPTION:All elementary-aged children are welcome to join us for Bible Clubhouse\, a mid-week Bible Study in which kids learn God’s Word while having fun through lessons\, activities\, and games.
URL:https://rodgersbaptist.net/event/bible-clubhouse-2/2026-07-01/
LOCATION:Rodgers Baptist Church\, 801 W. Buckingham Rd\, Garland\, TX\, 75040\, United States
CATEGORIES:Children's Events
ATTACH;FMTTYPE=image/jpeg:https://rodgersbaptist.net/wp-content/uploads/2025/10/Bible-Clubhouse-Business-Card-US.jpg
END:VEVENT
BEGIN:VEVENT
DTSTART;TZID=America/Chicago:20260701T190000
DTEND;TZID=America/Chicago:20260701T200000
DTSTAMP:20260419T162607
CREATED:20251115T151532Z
LAST-MODIFIED:20251214T040917Z
UID:10009414-1782932400-1782936000@rodgersbaptist.net
SUMMARY:Mid-Week Service
DESCRIPTION:Join our adult Bible Study on Wednesday nights at 7pm in the sanctuary. We are currently going through the Focus on the Family series on “Truth Rising.” The Wednesday evening service will not be livestreamed through the duration of this series\, which will go until Wednesday\, December 6th. \nWhile adults are meeting in the sanctuary\, kids and teens meet in their departments for fellowship and time in God’s Word.
URL:https://rodgersbaptist.net/event/mid-week-service-2-2/2026-07-01/
LOCATION:Rodgers Baptist Church\, 801 W. Buckingham Rd\, Garland\, TX\, 75040\, United States
CATEGORIES:All Church Event
END:VEVENT
END:VCALENDAR