BEGIN:VCALENDAR
VERSION:2.0
PRODID:-//Rodgers Baptist Church - ECPv6.15.20//NONSGML v1.0//EN
CALSCALE:GREGORIAN
METHOD:PUBLISH
X-WR-CALNAME:Rodgers Baptist Church
X-ORIGINAL-URL:https://rodgersbaptist.net
X-WR-CALDESC:Events for Rodgers Baptist Church
REFRESH-INTERVAL;VALUE=DURATION:PT1H
X-Robots-Tag:noindex
X-PUBLISHED-TTL:PT1H
BEGIN:VTIMEZONE
TZID:America/Chicago
BEGIN:DAYLIGHT
TZOFFSETFROM:-0600
TZOFFSETTO:-0500
TZNAME:CDT
DTSTART:20250309T080000
END:DAYLIGHT
BEGIN:STANDARD
TZOFFSETFROM:-0500
TZOFFSETTO:-0600
TZNAME:CST
DTSTART:20251102T070000
END:STANDARD
BEGIN:DAYLIGHT
TZOFFSETFROM:-0600
TZOFFSETTO:-0500
TZNAME:CDT
DTSTART:20260308T080000
END:DAYLIGHT
BEGIN:STANDARD
TZOFFSETFROM:-0500
TZOFFSETTO:-0600
TZNAME:CST
DTSTART:20261101T070000
END:STANDARD
BEGIN:DAYLIGHT
TZOFFSETFROM:-0600
TZOFFSETTO:-0500
TZNAME:CDT
DTSTART:20270314T080000
END:DAYLIGHT
BEGIN:STANDARD
TZOFFSETFROM:-0500
TZOFFSETTO:-0600
TZNAME:CST
DTSTART:20271107T070000
END:STANDARD
END:VTIMEZONE
BEGIN:VEVENT
DTSTART;TZID=America/Chicago:20260816T091500
DTEND;TZID=America/Chicago:20260816T101000
DTSTAMP:20260420T163611
CREATED:20251027T032628Z
LAST-MODIFIED:20260124T195712Z
UID:10008023-1786871700-1786875000@rodgersbaptist.net
SUMMARY:LIFE Groups
DESCRIPTION:While elementary students are in their Sunday School classes\, teens and adults at Rodgers Baptist Church meet in their LIFE Groups for small group Bible Study. Our LIFE Groups Learn\, Invite\, Fellowship\, and Engage with others in similar life stages as we seek to live out the gospel in our daily lives. \nClasses & Locations\n\n0 to pre-K: Nursery rooms in the front entrance hall\nKindergarten to 5th grade: Elementary department upstairs above the front entrance hall\n6th grade to 12th grade: Youth department upstairs above the fellowship hall\nCrossroads: Upstairs above the fellowship hall\nHomebuilders: Upstairs above the fellowship hall\nAmbassadors: Upstairs above the fellowship hall\nCrusaders I: Fellowship Hall\nCrusaders II: Choir Room
URL:https://rodgersbaptist.net/event/life-groups-sunday-school-2/2026-08-16/
LOCATION:Rodgers Baptist Church\, 801 W. Buckingham Rd\, Garland\, TX\, 75040\, United States
CATEGORIES:All Church Event,Children's Events,LIFE Groups,Youth Events
END:VEVENT
BEGIN:VEVENT
DTSTART;TZID=America/Chicago:20260816T103000
DTEND;TZID=America/Chicago:20260816T120000
DTSTAMP:20260420T163611
CREATED:20251027T032148Z
LAST-MODIFIED:20260124T195744Z
UID:10008295-1786876200-1786881600@rodgersbaptist.net
SUMMARY:Sunday Morning Worship
DESCRIPTION:Join us in the sanctuary for a time of worship through music followed by our Sunday morning message series on Jesus the Sovereign Servant in the Gospel of Mark. During this time\, we will also have Junior Church for kids from 4 years old through 1st grade and Children’s Church for kids in 2nd through 5th grade. These classes are held upstairs in the Elementary Department. We also have nursery services available for babies and toddlers in rooms along the front entrance hallway.
URL:https://rodgersbaptist.net/event/sunday-morning-worship-2/2026-08-16/
LOCATION:Rodgers Baptist Church\, 801 W. Buckingham Rd\, Garland\, TX\, 75040\, United States
CATEGORIES:All Church Event
END:VEVENT
BEGIN:VEVENT
DTSTART;TZID=America/Chicago:20260816T180000
DTEND;TZID=America/Chicago:20260816T193000
DTSTAMP:20260420T163611
CREATED:20251215T000034Z
LAST-MODIFIED:20251219T002459Z
UID:10009967-1786903200-1786908600@rodgersbaptist.net
SUMMARY:Lord's Supper Service
DESCRIPTION:During the Sunday evening service on August 16th\, we will observe the Lord’s Supper to remember our Lord’s death\, burial\, and resurrection.
URL:https://rodgersbaptist.net/event/lords-supper-service-4/
LOCATION:Rodgers Baptist Church\, 801 W. Buckingham Rd\, Garland\, TX\, 75040\, United States
CATEGORIES:All Church Event
END:VEVENT
BEGIN:VEVENT
DTSTART;TZID=America/Chicago:20260816T193000
DTEND;TZID=America/Chicago:20260816T200000
DTSTAMP:20260420T163611
CREATED:20251215T000006Z
LAST-MODIFIED:20251213T035330Z
UID:10009968-1786908600-1786910400@rodgersbaptist.net
SUMMARY:Youth "Let's Go"
DESCRIPTION:Our August Youth “Let’s Go” event will be on Sunday\, August 16th\, after the evening service. Families are welcome to join. Teens can be picked up at the restaurant at 8:45 or at the church at 9pm.
URL:https://rodgersbaptist.net/event/youth-lets-go-9/
LOCATION:Rodgers Baptist Church\, 801 W. Buckingham Rd\, Garland\, TX\, 75040\, United States
CATEGORIES:Youth Events
ORGANIZER;CN="Jason Smith":MAILTO:jsmith@rodgersbaptist.net
END:VEVENT
END:VCALENDAR