BEGIN:VCALENDAR
VERSION:2.0
PRODID:-//Rodgers Baptist Church - ECPv6.15.20//NONSGML v1.0//EN
CALSCALE:GREGORIAN
METHOD:PUBLISH
X-WR-CALNAME:Rodgers Baptist Church
X-ORIGINAL-URL:https://rodgersbaptist.net
X-WR-CALDESC:Events for Rodgers Baptist Church
REFRESH-INTERVAL;VALUE=DURATION:PT1H
X-Robots-Tag:noindex
X-PUBLISHED-TTL:PT1H
BEGIN:VTIMEZONE
TZID:America/Chicago
BEGIN:DAYLIGHT
TZOFFSETFROM:-0600
TZOFFSETTO:-0500
TZNAME:CDT
DTSTART:20250309T080000
END:DAYLIGHT
BEGIN:STANDARD
TZOFFSETFROM:-0500
TZOFFSETTO:-0600
TZNAME:CST
DTSTART:20251102T070000
END:STANDARD
BEGIN:DAYLIGHT
TZOFFSETFROM:-0600
TZOFFSETTO:-0500
TZNAME:CDT
DTSTART:20260308T080000
END:DAYLIGHT
BEGIN:STANDARD
TZOFFSETFROM:-0500
TZOFFSETTO:-0600
TZNAME:CST
DTSTART:20261101T070000
END:STANDARD
BEGIN:DAYLIGHT
TZOFFSETFROM:-0600
TZOFFSETTO:-0500
TZNAME:CDT
DTSTART:20270314T080000
END:DAYLIGHT
BEGIN:STANDARD
TZOFFSETFROM:-0500
TZOFFSETTO:-0600
TZNAME:CST
DTSTART:20271107T070000
END:STANDARD
END:VTIMEZONE
BEGIN:VEVENT
DTSTART;TZID=America/Chicago:20260901T183000
DTEND;TZID=America/Chicago:20260901T200000
DTSTAMP:20260420T213000
CREATED:20251215T000054Z
LAST-MODIFIED:20251219T002814Z
UID:10009831-1788287400-1788292800@rodgersbaptist.net
SUMMARY:RBC Book Club
DESCRIPTION:Our church’s Book Club meets every two months to enjoy a potluck-style dinner and discuss the three books we read since the last meeting. Anyone interested in joining can contact us to get the book list and to learn more about the theme for the dinner.
URL:https://rodgersbaptist.net/event/rbc-book-club-2/2026-09-01/
LOCATION:Rodgers Baptist Church\, 801 W. Buckingham Rd\, Garland\, TX\, 75040\, United States
CATEGORIES:All Church Event
ATTACH;FMTTYPE=image/png:https://rodgersbaptist.net/wp-content/uploads/2025/10/Book-Club.png
END:VEVENT
BEGIN:VEVENT
DTSTART;TZID=America/Chicago:20260905T140000
DTEND;TZID=America/Chicago:20260905T160000
DTSTAMP:20260420T213000
CREATED:20251215T000039Z
LAST-MODIFIED:20251213T135428Z
UID:10009972-1788616800-1788624000@rodgersbaptist.net
SUMMARY:Youth Scavenger Hunt
DESCRIPTION:Our September RBC Student Ministries event will be a scavenger hunt on Saturday\, September 5th. Check back later for more information.
URL:https://rodgersbaptist.net/event/youth-scavenger-hunt/
LOCATION:Rodgers Baptist Church\, 801 W. Buckingham Rd\, Garland\, TX\, 75040\, United States
CATEGORIES:Youth Events
ORGANIZER;CN="Jason Smith":MAILTO:jsmith@rodgersbaptist.net
END:VEVENT
BEGIN:VEVENT
DTSTART;TZID=America/Chicago:20260909T190000
DTEND;TZID=America/Chicago:20260909T200000
DTSTAMP:20260420T213000
CREATED:20251215T000042Z
LAST-MODIFIED:20251213T135804Z
UID:10009973-1788980400-1788984000@rodgersbaptist.net
SUMMARY:Ladies' Bible Study
DESCRIPTION:Our Fall 2026 Ladies’ Bible Study will begin on Wednesday\, September 9th\, and go until October 28th. Check back later for more information.
URL:https://rodgersbaptist.net/event/ladies-bible-study-2/2026-09-09/
LOCATION:Rodgers Baptist Church\, 801 W. Buckingham Rd\, Garland\, TX\, 75040\, United States
CATEGORIES:Ladies' Events
END:VEVENT
BEGIN:VEVENT
DTSTART;TZID=America/Chicago:20260912T120000
DTEND;TZID=America/Chicago:20260912T140000
DTSTAMP:20260420T213000
CREATED:20251215T000011Z
LAST-MODIFIED:20251213T140030Z
UID:10009981-1789214400-1789221600@rodgersbaptist.net
SUMMARY:Music Ministry Picnic
DESCRIPTION:Our choir and orchestra members are invited to join us on Saturday\, September 12th\, for our Music Ministry Picnic. Check back later for more information.
URL:https://rodgersbaptist.net/event/music-ministry-picnic/
LOCATION:Rodgers Baptist Church\, 801 W. Buckingham Rd\, Garland\, TX\, 75040\, United States
CATEGORIES:All Church Event
ORGANIZER;CN="Joshua Walker":MAILTO:jwalker@rodgersbaptist.net
END:VEVENT
BEGIN:VEVENT
DTSTART;TZID=America/Chicago:20260916T190000
DTEND;TZID=America/Chicago:20260916T200000
DTSTAMP:20260420T213000
CREATED:20251215T000042Z
LAST-MODIFIED:20251213T135804Z
UID:10009974-1789585200-1789588800@rodgersbaptist.net
SUMMARY:Ladies' Bible Study
DESCRIPTION:Our Fall 2026 Ladies’ Bible Study will begin on Wednesday\, September 9th\, and go until October 28th. Check back later for more information.
URL:https://rodgersbaptist.net/event/ladies-bible-study-2/2026-09-16/
LOCATION:Rodgers Baptist Church\, 801 W. Buckingham Rd\, Garland\, TX\, 75040\, United States
CATEGORIES:Ladies' Events
END:VEVENT
BEGIN:VEVENT
DTSTART;TZID=America/Chicago:20260923T190000
DTEND;TZID=America/Chicago:20260923T200000
DTSTAMP:20260420T213000
CREATED:20251215T000042Z
LAST-MODIFIED:20251213T135804Z
UID:10009975-1790190000-1790193600@rodgersbaptist.net
SUMMARY:Ladies' Bible Study
DESCRIPTION:Our Fall 2026 Ladies’ Bible Study will begin on Wednesday\, September 9th\, and go until October 28th. Check back later for more information.
URL:https://rodgersbaptist.net/event/ladies-bible-study-2/2026-09-23/
LOCATION:Rodgers Baptist Church\, 801 W. Buckingham Rd\, Garland\, TX\, 75040\, United States
CATEGORIES:Ladies' Events
END:VEVENT
BEGIN:VEVENT
DTSTART;TZID=America/Chicago:20260930T190000
DTEND;TZID=America/Chicago:20260930T200000
DTSTAMP:20260420T213000
CREATED:20251215T000042Z
LAST-MODIFIED:20251213T135804Z
UID:10009976-1790794800-1790798400@rodgersbaptist.net
SUMMARY:Ladies' Bible Study
DESCRIPTION:Our Fall 2026 Ladies’ Bible Study will begin on Wednesday\, September 9th\, and go until October 28th. Check back later for more information.
URL:https://rodgersbaptist.net/event/ladies-bible-study-2/2026-09-30/
LOCATION:Rodgers Baptist Church\, 801 W. Buckingham Rd\, Garland\, TX\, 75040\, United States
CATEGORIES:Ladies' Events
END:VEVENT
END:VCALENDAR