BEGIN:VCALENDAR
VERSION:2.0
PRODID:-//Rodgers Baptist Church - ECPv6.15.20//NONSGML v1.0//EN
CALSCALE:GREGORIAN
METHOD:PUBLISH
X-ORIGINAL-URL:https://rodgersbaptist.net
X-WR-CALDESC:Events for Rodgers Baptist Church
REFRESH-INTERVAL;VALUE=DURATION:PT1H
X-Robots-Tag:noindex
X-PUBLISHED-TTL:PT1H
BEGIN:VTIMEZONE
TZID:America/Chicago
BEGIN:DAYLIGHT
TZOFFSETFROM:-0600
TZOFFSETTO:-0500
TZNAME:CDT
DTSTART:20260308T080000
END:DAYLIGHT
BEGIN:STANDARD
TZOFFSETFROM:-0500
TZOFFSETTO:-0600
TZNAME:CST
DTSTART:20261101T070000
END:STANDARD
BEGIN:DAYLIGHT
TZOFFSETFROM:-0600
TZOFFSETTO:-0500
TZNAME:CDT
DTSTART:20270314T080000
END:DAYLIGHT
BEGIN:STANDARD
TZOFFSETFROM:-0500
TZOFFSETTO:-0600
TZNAME:CST
DTSTART:20271107T070000
END:STANDARD
BEGIN:DAYLIGHT
TZOFFSETFROM:-0600
TZOFFSETTO:-0500
TZNAME:CDT
DTSTART:20280312T080000
END:DAYLIGHT
BEGIN:STANDARD
TZOFFSETFROM:-0500
TZOFFSETTO:-0600
TZNAME:CST
DTSTART:20281105T070000
END:STANDARD
END:VTIMEZONE
BEGIN:VEVENT
DTSTART;TZID=America/Chicago:20270502T091500
DTEND;TZID=America/Chicago:20270502T101000
DTSTAMP:20260420T052543
CREATED:20251027T032628Z
LAST-MODIFIED:20260124T195712Z
UID:10008060-1809249300-1809252600@rodgersbaptist.net
SUMMARY:LIFE Groups
DESCRIPTION:While elementary students are in their Sunday School classes\, teens and adults at Rodgers Baptist Church meet in their LIFE Groups for small group Bible Study. Our LIFE Groups Learn\, Invite\, Fellowship\, and Engage with others in similar life stages as we seek to live out the gospel in our daily lives. \nClasses & Locations\n\n0 to pre-K: Nursery rooms in the front entrance hall\nKindergarten to 5th grade: Elementary department upstairs above the front entrance hall\n6th grade to 12th grade: Youth department upstairs above the fellowship hall\nCrossroads: Upstairs above the fellowship hall\nHomebuilders: Upstairs above the fellowship hall\nAmbassadors: Upstairs above the fellowship hall\nCrusaders I: Fellowship Hall\nCrusaders II: Choir Room
URL:https://rodgersbaptist.net/event/life-groups-sunday-school-2/2027-05-02/
LOCATION:Rodgers Baptist Church\, 801 W. Buckingham Rd\, Garland\, TX\, 75040\, United States
CATEGORIES:All Church Event,Children's Events,LIFE Groups,Youth Events
END:VEVENT
BEGIN:VEVENT
DTSTART;TZID=America/Chicago:20270505T190000
DTEND;TZID=America/Chicago:20270505T200000
DTSTAMP:20260420T052543
CREATED:20251027T032506Z
LAST-MODIFIED:20251219T002335Z
UID:10007769-1809543600-1809547200@rodgersbaptist.net
SUMMARY:Bible Clubhouse
DESCRIPTION:All elementary-aged children are welcome to join us for Bible Clubhouse\, a mid-week Bible Study in which kids learn God’s Word while having fun through lessons\, activities\, and games.
URL:https://rodgersbaptist.net/event/bible-clubhouse-2/2027-05-05/
LOCATION:Rodgers Baptist Church\, 801 W. Buckingham Rd\, Garland\, TX\, 75040\, United States
CATEGORIES:Children's Events
ATTACH;FMTTYPE=image/jpeg:https://rodgersbaptist.net/wp-content/uploads/2025/10/Bible-Clubhouse-Business-Card-US.jpg
END:VEVENT
BEGIN:VEVENT
DTSTART;TZID=America/Chicago:20270509T091500
DTEND;TZID=America/Chicago:20270509T101000
DTSTAMP:20260420T052543
CREATED:20251027T032628Z
LAST-MODIFIED:20260124T195712Z
UID:10008061-1809854100-1809857400@rodgersbaptist.net
SUMMARY:LIFE Groups
DESCRIPTION:While elementary students are in their Sunday School classes\, teens and adults at Rodgers Baptist Church meet in their LIFE Groups for small group Bible Study. Our LIFE Groups Learn\, Invite\, Fellowship\, and Engage with others in similar life stages as we seek to live out the gospel in our daily lives. \nClasses & Locations\n\n0 to pre-K: Nursery rooms in the front entrance hall\nKindergarten to 5th grade: Elementary department upstairs above the front entrance hall\n6th grade to 12th grade: Youth department upstairs above the fellowship hall\nCrossroads: Upstairs above the fellowship hall\nHomebuilders: Upstairs above the fellowship hall\nAmbassadors: Upstairs above the fellowship hall\nCrusaders I: Fellowship Hall\nCrusaders II: Choir Room
URL:https://rodgersbaptist.net/event/life-groups-sunday-school-2/2027-05-09/
LOCATION:Rodgers Baptist Church\, 801 W. Buckingham Rd\, Garland\, TX\, 75040\, United States
CATEGORIES:All Church Event,Children's Events,LIFE Groups,Youth Events
END:VEVENT
BEGIN:VEVENT
DTSTART;TZID=America/Chicago:20270512T190000
DTEND;TZID=America/Chicago:20270512T200000
DTSTAMP:20260420T052543
CREATED:20251027T032506Z
LAST-MODIFIED:20251219T002335Z
UID:10007770-1810148400-1810152000@rodgersbaptist.net
SUMMARY:Bible Clubhouse
DESCRIPTION:All elementary-aged children are welcome to join us for Bible Clubhouse\, a mid-week Bible Study in which kids learn God’s Word while having fun through lessons\, activities\, and games.
URL:https://rodgersbaptist.net/event/bible-clubhouse-2/2027-05-12/
LOCATION:Rodgers Baptist Church\, 801 W. Buckingham Rd\, Garland\, TX\, 75040\, United States
CATEGORIES:Children's Events
ATTACH;FMTTYPE=image/jpeg:https://rodgersbaptist.net/wp-content/uploads/2025/10/Bible-Clubhouse-Business-Card-US.jpg
END:VEVENT
BEGIN:VEVENT
DTSTART;TZID=America/Chicago:20270516T091500
DTEND;TZID=America/Chicago:20270516T101000
DTSTAMP:20260420T052543
CREATED:20251027T032628Z
LAST-MODIFIED:20260124T195712Z
UID:10008062-1810458900-1810462200@rodgersbaptist.net
SUMMARY:LIFE Groups
DESCRIPTION:While elementary students are in their Sunday School classes\, teens and adults at Rodgers Baptist Church meet in their LIFE Groups for small group Bible Study. Our LIFE Groups Learn\, Invite\, Fellowship\, and Engage with others in similar life stages as we seek to live out the gospel in our daily lives. \nClasses & Locations\n\n0 to pre-K: Nursery rooms in the front entrance hall\nKindergarten to 5th grade: Elementary department upstairs above the front entrance hall\n6th grade to 12th grade: Youth department upstairs above the fellowship hall\nCrossroads: Upstairs above the fellowship hall\nHomebuilders: Upstairs above the fellowship hall\nAmbassadors: Upstairs above the fellowship hall\nCrusaders I: Fellowship Hall\nCrusaders II: Choir Room
URL:https://rodgersbaptist.net/event/life-groups-sunday-school-2/2027-05-16/
LOCATION:Rodgers Baptist Church\, 801 W. Buckingham Rd\, Garland\, TX\, 75040\, United States
CATEGORIES:All Church Event,Children's Events,LIFE Groups,Youth Events
END:VEVENT
BEGIN:VEVENT
DTSTART;TZID=America/Chicago:20270519T190000
DTEND;TZID=America/Chicago:20270519T200000
DTSTAMP:20260420T052543
CREATED:20251027T032506Z
LAST-MODIFIED:20251219T002335Z
UID:10007771-1810753200-1810756800@rodgersbaptist.net
SUMMARY:Bible Clubhouse
DESCRIPTION:All elementary-aged children are welcome to join us for Bible Clubhouse\, a mid-week Bible Study in which kids learn God’s Word while having fun through lessons\, activities\, and games.
URL:https://rodgersbaptist.net/event/bible-clubhouse-2/2027-05-19/
LOCATION:Rodgers Baptist Church\, 801 W. Buckingham Rd\, Garland\, TX\, 75040\, United States
CATEGORIES:Children's Events
ATTACH;FMTTYPE=image/jpeg:https://rodgersbaptist.net/wp-content/uploads/2025/10/Bible-Clubhouse-Business-Card-US.jpg
END:VEVENT
BEGIN:VEVENT
DTSTART;TZID=America/Chicago:20270523T091500
DTEND;TZID=America/Chicago:20270523T101000
DTSTAMP:20260420T052543
CREATED:20251027T032628Z
LAST-MODIFIED:20260124T195712Z
UID:10008063-1811063700-1811067000@rodgersbaptist.net
SUMMARY:LIFE Groups
DESCRIPTION:While elementary students are in their Sunday School classes\, teens and adults at Rodgers Baptist Church meet in their LIFE Groups for small group Bible Study. Our LIFE Groups Learn\, Invite\, Fellowship\, and Engage with others in similar life stages as we seek to live out the gospel in our daily lives. \nClasses & Locations\n\n0 to pre-K: Nursery rooms in the front entrance hall\nKindergarten to 5th grade: Elementary department upstairs above the front entrance hall\n6th grade to 12th grade: Youth department upstairs above the fellowship hall\nCrossroads: Upstairs above the fellowship hall\nHomebuilders: Upstairs above the fellowship hall\nAmbassadors: Upstairs above the fellowship hall\nCrusaders I: Fellowship Hall\nCrusaders II: Choir Room
URL:https://rodgersbaptist.net/event/life-groups-sunday-school-2/2027-05-23/
LOCATION:Rodgers Baptist Church\, 801 W. Buckingham Rd\, Garland\, TX\, 75040\, United States
CATEGORIES:All Church Event,Children's Events,LIFE Groups,Youth Events
END:VEVENT
BEGIN:VEVENT
DTSTART;TZID=America/Chicago:20270526T190000
DTEND;TZID=America/Chicago:20270526T200000
DTSTAMP:20260420T052543
CREATED:20251027T032506Z
LAST-MODIFIED:20251219T002335Z
UID:10007772-1811358000-1811361600@rodgersbaptist.net
SUMMARY:Bible Clubhouse
DESCRIPTION:All elementary-aged children are welcome to join us for Bible Clubhouse\, a mid-week Bible Study in which kids learn God’s Word while having fun through lessons\, activities\, and games.
URL:https://rodgersbaptist.net/event/bible-clubhouse-2/2027-05-26/
LOCATION:Rodgers Baptist Church\, 801 W. Buckingham Rd\, Garland\, TX\, 75040\, United States
CATEGORIES:Children's Events
ATTACH;FMTTYPE=image/jpeg:https://rodgersbaptist.net/wp-content/uploads/2025/10/Bible-Clubhouse-Business-Card-US.jpg
END:VEVENT
BEGIN:VEVENT
DTSTART;TZID=America/Chicago:20270530T091500
DTEND;TZID=America/Chicago:20270530T101000
DTSTAMP:20260420T052543
CREATED:20251027T032628Z
LAST-MODIFIED:20260124T195712Z
UID:10008064-1811668500-1811671800@rodgersbaptist.net
SUMMARY:LIFE Groups
DESCRIPTION:While elementary students are in their Sunday School classes\, teens and adults at Rodgers Baptist Church meet in their LIFE Groups for small group Bible Study. Our LIFE Groups Learn\, Invite\, Fellowship\, and Engage with others in similar life stages as we seek to live out the gospel in our daily lives. \nClasses & Locations\n\n0 to pre-K: Nursery rooms in the front entrance hall\nKindergarten to 5th grade: Elementary department upstairs above the front entrance hall\n6th grade to 12th grade: Youth department upstairs above the fellowship hall\nCrossroads: Upstairs above the fellowship hall\nHomebuilders: Upstairs above the fellowship hall\nAmbassadors: Upstairs above the fellowship hall\nCrusaders I: Fellowship Hall\nCrusaders II: Choir Room
URL:https://rodgersbaptist.net/event/life-groups-sunday-school-2/2027-05-30/
LOCATION:Rodgers Baptist Church\, 801 W. Buckingham Rd\, Garland\, TX\, 75040\, United States
CATEGORIES:All Church Event,Children's Events,LIFE Groups,Youth Events
END:VEVENT
END:VCALENDAR