BEGIN:VCALENDAR
VERSION:2.0
PRODID:-//Rodgers Baptist Church - ECPv6.15.20//NONSGML v1.0//EN
CALSCALE:GREGORIAN
METHOD:PUBLISH
X-ORIGINAL-URL:https://rodgersbaptist.net
X-WR-CALDESC:Events for Rodgers Baptist Church
REFRESH-INTERVAL;VALUE=DURATION:PT1H
X-Robots-Tag:noindex
X-PUBLISHED-TTL:PT1H
BEGIN:VTIMEZONE
TZID:America/Chicago
BEGIN:DAYLIGHT
TZOFFSETFROM:-0600
TZOFFSETTO:-0500
TZNAME:CDT
DTSTART:20240310T080000
END:DAYLIGHT
BEGIN:STANDARD
TZOFFSETFROM:-0500
TZOFFSETTO:-0600
TZNAME:CST
DTSTART:20241103T070000
END:STANDARD
BEGIN:DAYLIGHT
TZOFFSETFROM:-0600
TZOFFSETTO:-0500
TZNAME:CDT
DTSTART:20250309T080000
END:DAYLIGHT
BEGIN:STANDARD
TZOFFSETFROM:-0500
TZOFFSETTO:-0600
TZNAME:CST
DTSTART:20251102T070000
END:STANDARD
BEGIN:DAYLIGHT
TZOFFSETFROM:-0600
TZOFFSETTO:-0500
TZNAME:CDT
DTSTART:20260308T080000
END:DAYLIGHT
BEGIN:STANDARD
TZOFFSETFROM:-0500
TZOFFSETTO:-0600
TZNAME:CST
DTSTART:20261101T070000
END:STANDARD
BEGIN:DAYLIGHT
TZOFFSETFROM:-0600
TZOFFSETTO:-0500
TZNAME:CDT
DTSTART:20270314T080000
END:DAYLIGHT
BEGIN:STANDARD
TZOFFSETFROM:-0500
TZOFFSETTO:-0600
TZNAME:CST
DTSTART:20271107T070000
END:STANDARD
END:VTIMEZONE
BEGIN:VEVENT
DTSTART;TZID=America/Chicago:20251219T180000
DTEND;TZID=America/Chicago:20251219T213000
DTSTAMP:20260421T010342
CREATED:20251026T215021Z
LAST-MODIFIED:20251129T021734Z
UID:10004759-1766167200-1766179800@rodgersbaptist.net
SUMMARY:Youth Christmas Party
DESCRIPTION:RBC Student Ministries will be having its Christmas Party on Friday\, December 19th\, from 6 to 9:30pm. They will begin with dinner at Chili’s in Rowlett and then head over to the Alaniz house for fellowship and a White Elephant exchange.
URL:https://rodgersbaptist.net/event/youth-christmas-party/
LOCATION:Rodgers Baptist Church\, 801 W. Buckingham Rd\, Garland\, TX\, 75040\, United States
CATEGORIES:Youth Events
ATTACH;FMTTYPE=image/png:https://rodgersbaptist.net/wp-content/uploads/2025/10/RBC-Student-Ministires-Tentative-Logo-1.png
ORGANIZER;CN="Jason Smith":MAILTO:jsmith@rodgersbaptist.net
END:VEVENT
BEGIN:VEVENT
DTSTART;TZID=America/Chicago:20251228T103000
DTEND;TZID=America/Chicago:20251228T120000
DTSTAMP:20260421T010342
CREATED:20251115T152951Z
LAST-MODIFIED:20251226T195853Z
UID:10002162-1766917800-1766923200@rodgersbaptist.net
SUMMARY:Sunday Morning Worship - Bible Sunday
DESCRIPTION:Join us in the sanctuary for a time of worship through music followed by our Sunday morning message series on Jesus the Sovereign Servant in the Gospel of Mark. Sunday\, December 28th\, is Bible Sunday\, a day we set aside at the end of each year to recognize those who have read through their Bibles in the year and to encourage everyone to spend time daily in God’s Word. \nDuring this time\, we will also have Junior Church for kids from 4 years old through 1st grade and Children’s Church for kids in 2nd through 5th grade. These classes are held upstairs in the Elementary Department. We also have nursery services available for babies and toddlers in rooms along the front entrance hallway.
URL:https://rodgersbaptist.net/event/sunday-morning-worship-2-2/
LOCATION:Rodgers Baptist Church\, 801 W. Buckingham Rd\, Garland\, TX\, 75040\, United States
CATEGORIES:All Church Event
ATTACH;FMTTYPE=image/png:https://rodgersbaptist.net/wp-content/uploads/2025/11/2025-Bible-Sunday.png
END:VEVENT
BEGIN:VEVENT
DTSTART;TZID=America/Chicago:20251231T200000
DTEND;TZID=America/Chicago:20251231T233000
DTSTAMP:20260421T010342
CREATED:20251115T152746Z
LAST-MODIFIED:20251226T195709Z
UID:10006310-1767211200-1767223800@rodgersbaptist.net
SUMMARY:New Year's Eve Fellowship
DESCRIPTION:Join us in the Fellowship Hall after the evening service on Wednesday\, December 31st\, for games and snacks as we celebrate 2025 and look forward to moving forward together in 2026.
URL:https://rodgersbaptist.net/event/new-years-eve-fellowship/
LOCATION:Rodgers Baptist Church\, 801 W. Buckingham Rd\, Garland\, TX\, 75040\, United States
CATEGORIES:All Church Event
ATTACH;FMTTYPE=image/png:https://rodgersbaptist.net/wp-content/uploads/2025/11/New-Years-Eve-Fellowship.png
END:VEVENT
BEGIN:VEVENT
DTSTART;TZID=America/Chicago:20260106T183000
DTEND;TZID=America/Chicago:20260106T200000
DTSTAMP:20260421T010342
CREATED:20251215T000054Z
LAST-MODIFIED:20251219T002814Z
UID:10009677-1767724200-1767729600@rodgersbaptist.net
SUMMARY:RBC Book Club
DESCRIPTION:Our church’s Book Club meets every two months to enjoy a potluck-style dinner and discuss the three books we read since the last meeting. Anyone interested in joining can contact us to get the book list and to learn more about the theme for the dinner.
URL:https://rodgersbaptist.net/event/rbc-book-club-2/2026-01-06/
LOCATION:Rodgers Baptist Church\, 801 W. Buckingham Rd\, Garland\, TX\, 75040\, United States
CATEGORIES:All Church Event
ATTACH;FMTTYPE=image/png:https://rodgersbaptist.net/wp-content/uploads/2025/10/Book-Club.png
END:VEVENT
BEGIN:VEVENT
DTSTART;TZID=America/Chicago:20260108T093000
DTEND;TZID=America/Chicago:20260108T113000
DTSTAMP:20260421T010342
CREATED:20251215T000038Z
LAST-MODIFIED:20251212T034809Z
UID:10009881-1767864600-1767871800@rodgersbaptist.net
SUMMARY:Rodgers Rovers Service Project
DESCRIPTION:The January Rodgers Rovers event will be held on Thursday\, January 8th\, at Rodgers Baptist Church. The Rovers will be making homemade soup and cornbread!
URL:https://rodgersbaptist.net/event/rodgers-rovers-service-project/
LOCATION:Rodgers Baptist Church\, 801 W. Buckingham Rd\, Garland\, TX\, 75040\, United States
CATEGORIES:LIFE Groups
END:VEVENT
BEGIN:VEVENT
DTSTART;TZID=America/Chicago:20260110T110000
DTEND;TZID=America/Chicago:20260110T140000
DTSTAMP:20260421T010342
CREATED:20251226T193408Z
LAST-MODIFIED:20251226T193408Z
UID:10010024-1768042800-1768053600@rodgersbaptist.net
SUMMARY:Prime Timers & Pillars of Truth Fellowship
DESCRIPTION:The Prime Timers and Pillars of Truth LIFE Groups will be having a fellowship on Saturday\, January 10th\, from 11am to 2pm. Those in the Prime Timers LIFE Group are to bring soups and desserts. Those in the Pillars of Truth LIFE Group are to bring sandwiches. Everyone is invited to bring their favorite game.
URL:https://rodgersbaptist.net/event/prime-timers-pillars-of-truth-fellowship/
LOCATION:Rodgers Baptist Church\, 801 W. Buckingham Rd\, Garland\, TX\, 75040\, United States
CATEGORIES:LIFE Groups
END:VEVENT
BEGIN:VEVENT
DTSTART;TZID=America/Chicago:20260117T080000
DTEND;TZID=America/Chicago:20260117T100000
DTSTAMP:20260421T010342
CREATED:20251215T000039Z
LAST-MODIFIED:20251226T192721Z
UID:10009882-1768636800-1768644000@rodgersbaptist.net
SUMMARY:Bibles & Bacon
DESCRIPTION:Our next men’s prayer breakfast will be on Saturday\, January 17\, 2026. We will enjoy a hearty breakfast\, fellowship\, prayer\, and time in God’s Word. The cost is $5. You can click here to register or register at the welcome desk.
URL:https://rodgersbaptist.net/event/bibles-bacon-2/
LOCATION:Rodgers Baptist Church\, 801 W. Buckingham Rd\, Garland\, TX\, 75040\, United States
CATEGORIES:Men's Events
ATTACH;FMTTYPE=image/png:https://rodgersbaptist.net/wp-content/uploads/2025/10/Bibles-Bacon.png
END:VEVENT
BEGIN:VEVENT
DTSTART;TZID=America/Chicago:20260117T090000
DTEND;TZID=America/Chicago:20260117T153000
DTSTAMP:20260421T010342
CREATED:20251215T000019Z
LAST-MODIFIED:20260110T224648Z
UID:10009884-1768640400-1768663800@rodgersbaptist.net
SUMMARY:Northeast Baptist Church Youth Explosion
DESCRIPTION:On Saturday\, January 17th\, our youth will be attending Northeast Baptist Church’s Youth Explosion event. We will leave at 9:00 and anticipate returning around 2:30
URL:https://rodgersbaptist.net/event/northeast-baptist-church-youth-explosion/
LOCATION:Rodgers Baptist Church\, 801 W. Buckingham Rd\, Garland\, TX\, 75040\, United States
CATEGORIES:Youth Events
END:VEVENT
BEGIN:VEVENT
DTSTART;TZID=America/Chicago:20260118T180000
DTEND;TZID=America/Chicago:20260118T193000
DTSTAMP:20260421T010342
CREATED:20251215T000057Z
LAST-MODIFIED:20260117T230600Z
UID:10008811-1768759200-1768764600@rodgersbaptist.net
SUMMARY:Sunday Evening Worship - Jonathan Myers Ministry Presentation
DESCRIPTION:Join us in the sanctuary as we end the Lord’s day in the Lord’s house with the Lord’s people. After a time of worship in music we will open God’s Word and then share prayer requests. On Sunday\, January 18th\, Bro. Jonathan Myers of Second Chance Baptist Church will be with us to present his homeless and addiction ministry.
URL:https://rodgersbaptist.net/event/sunday-evening-worship-2-4/
LOCATION:Rodgers Baptist Church\, 801 W. Buckingham Rd\, Garland\, TX\, 75040\, United States
CATEGORIES:All Church Event
ATTACH;FMTTYPE=image/png:https://rodgersbaptist.net/wp-content/uploads/2025/12/Special-Speaker.png
END:VEVENT
BEGIN:VEVENT
DTSTART;TZID=America/Chicago:20260118T193000
DTEND;TZID=America/Chicago:20260118T210000
DTSTAMP:20260421T010342
CREATED:20251215T000046Z
LAST-MODIFIED:20260117T231009Z
UID:10009885-1768764600-1768770000@rodgersbaptist.net
SUMMARY:Youth "Let's Go" to Culvers
DESCRIPTION:Our January Youth “Let’s Go” event will be on Sunday\, January 18th\, after the evening service. We will be going to the Culver’s in Rockwall. Families are welcome to join. Teens can be picked up at the restaurant at 8:45 or at the church at 9pm.
URL:https://rodgersbaptist.net/event/youth-lets-go-2/
LOCATION:Culver’s in Rockwall\, 2475 Ridge Road\, Rockwall\, 75087\, United States
CATEGORIES:Youth Events
ATTACH;FMTTYPE=image/png:https://rodgersbaptist.net/wp-content/uploads/2025/12/Youth-Lets-Go-Templates.png
ORGANIZER;CN="Jason Smith":MAILTO:jsmith@rodgersbaptist.net
END:VEVENT
BEGIN:VEVENT
DTSTART;TZID=America/Chicago:20260208T120000
DTEND;TZID=America/Chicago:20260208T140000
DTSTAMP:20260421T010342
CREATED:20251215T000021Z
LAST-MODIFIED:20260131T013208Z
UID:10009905-1770552000-1770559200@rodgersbaptist.net
SUMMARY:Rodgers Rovers Valentines Project
DESCRIPTION:On Sunday\, February 8th\, the Rodgers Rovers will go out to lunch at Whataburger on Buckingham after the morning service. Afterward we will go to Park Garland Senior Home. Bro. Malcolm will give a devotional and then we will pass out our flower arrangements and cookies to the residents. Sign up at the welcome center.
URL:https://rodgersbaptist.net/event/rodgers-rovers-3/
LOCATION:Rodgers Baptist Church\, 801 W. Buckingham Rd\, Garland\, TX\, 75040\, United States
CATEGORIES:LIFE Groups
ATTACH;FMTTYPE=image/png:https://rodgersbaptist.net/wp-content/uploads/2025/12/Rodgers-Rovers-Templates.png
END:VEVENT
BEGIN:VEVENT
DTSTART;TZID=America/Chicago:20260215T193000
DTEND;TZID=America/Chicago:20260215T210000
DTSTAMP:20260421T010342
CREATED:20251215T000053Z
LAST-MODIFIED:20260213T024616Z
UID:10009906-1771183800-1771189200@rodgersbaptist.net
SUMMARY:Youth "Let's Go" to In-N-Out Burger
DESCRIPTION:Our February Youth “Let’s Go” event will be on Sunday\, February 15th\, after the evening service. We will go to In-N-Out Burger in Firewheel. Families are welcome to join. Teens can be picked up at the restaurant at 8:45 or at the church at 9pm.
URL:https://rodgersbaptist.net/event/youth-lets-go-3/
LOCATION:In-N-Out Burger\, 150 Town Center Blvd\, Garland\, 75040\, United States
CATEGORIES:Youth Events
ATTACH;FMTTYPE=image/png:https://rodgersbaptist.net/wp-content/uploads/2025/12/Youth-Lets-Go-Templates-1.png
END:VEVENT
BEGIN:VEVENT
DTSTART;TZID=America/Chicago:20260221T100000
DTEND;TZID=America/Chicago:20260221T120000
DTSTAMP:20260421T010342
CREATED:20251219T000714Z
LAST-MODIFIED:20260131T013031Z
UID:10009904-1771668000-1771675200@rodgersbaptist.net
SUMMARY:Music Ministry Brunch
DESCRIPTION:Choir and orchestra members are invited to attend the Music Ministry Brunch on Saturday\, February 21\, at 10am. During this time Bro. Joshua Walker will share his vision for the coming year. Anyone who is interested in joining the music ministry is also welcome to attend. You can sign up at the welcome desk or by clicking here.
URL:https://rodgersbaptist.net/event/music-ministry-brunch/
LOCATION:Rodgers Baptist Church\, 801 W. Buckingham Rd\, Garland\, TX\, 75040\, United States
CATEGORIES:All Church Event
ATTACH;FMTTYPE=image/png:https://rodgersbaptist.net/wp-content/uploads/2026/01/Choir-Orchestra-Ministry-Brunch.png
ORGANIZER;CN="Joshua Walker":MAILTO:jwalker@rodgersbaptist.net
END:VEVENT
BEGIN:VEVENT
DTSTART;TZID=America/Chicago:20260221T160000
DTEND;TZID=America/Chicago:20260221T200000
DTSTAMP:20260421T010342
CREATED:20260122T134931Z
LAST-MODIFIED:20260122T134931Z
UID:10010031-1771689600-1771704000@rodgersbaptist.net
SUMMARY:RBC Student Ministries Tacky Prom
DESCRIPTION:February 21st will be our RBC Student Ministries “Tacky Prom.” Teens will meet at the church at 4pm and head out to a local thrift store. They need $10-15 (in addition to money for dinner) to buy a tacky outfit for another teen. Then\, dressed in their tacky clothes\, we will go take pictures at The Harbor and eat dinner at a local restaurant.
URL:https://rodgersbaptist.net/event/rbc-student-ministries-tacky-prom/
LOCATION:Rodgers Baptist Church\, 801 W. Buckingham Rd\, Garland\, TX\, 75040\, United States
CATEGORIES:Youth Events
ATTACH;FMTTYPE=image/png:https://rodgersbaptist.net/wp-content/uploads/2025/10/RBC-Student-Ministires-Tentative-Logo-1.png
ORGANIZER;CN="Jason Smith":MAILTO:jsmith@rodgersbaptist.net
END:VEVENT
BEGIN:VEVENT
DTSTART;TZID=America/Chicago:20260228T170000
DTEND;TZID=America/Chicago:20260228T190000
DTSTAMP:20260421T010342
CREATED:20251215T000046Z
LAST-MODIFIED:20260206T020803Z
UID:10009909-1772298000-1772305200@rodgersbaptist.net
SUMMARY:Tacos & Truth
DESCRIPTION:Our men will meet on Saturday\, February 28th\, at 5pm for Tacos & Truth. Join us for a taco dinner\, fellowship\, and time in God’s Word. The cost is $10. You can register at the welcome desk or online here.
URL:https://rodgersbaptist.net/event/tacos-truth/
LOCATION:Rodgers Baptist Church\, 801 W. Buckingham Rd\, Garland\, TX\, 75040\, United States
CATEGORIES:Men's Events
ATTACH;FMTTYPE=image/png:https://rodgersbaptist.net/wp-content/uploads/2025/12/Tacos-Truth-without-Date.png
END:VEVENT
BEGIN:VEVENT
DTSTART;TZID=America/Chicago:20260303T183000
DTEND;TZID=America/Chicago:20260303T200000
DTSTAMP:20260421T010342
CREATED:20251215T000054Z
LAST-MODIFIED:20251219T002814Z
UID:10009828-1772562600-1772568000@rodgersbaptist.net
SUMMARY:RBC Book Club
DESCRIPTION:Our church’s Book Club meets every two months to enjoy a potluck-style dinner and discuss the three books we read since the last meeting. Anyone interested in joining can contact us to get the book list and to learn more about the theme for the dinner.
URL:https://rodgersbaptist.net/event/rbc-book-club-2/2026-03-03/
LOCATION:Rodgers Baptist Church\, 801 W. Buckingham Rd\, Garland\, TX\, 75040\, United States
CATEGORIES:All Church Event
ATTACH;FMTTYPE=image/png:https://rodgersbaptist.net/wp-content/uploads/2025/10/Book-Club.png
END:VEVENT
BEGIN:VEVENT
DTSTART;TZID=America/Chicago:20260305T084500
DTEND;TZID=America/Chicago:20260305T150000
DTSTAMP:20260421T010342
CREATED:20251215T000034Z
LAST-MODIFIED:20260302T224024Z
UID:10009913-1772700300-1772722800@rodgersbaptist.net
SUMMARY:Rodgers Rovers "East Texas Daffodils"
DESCRIPTION:The Rodgers Rovers will take the minibus to Gladewater\, TX\, on Thursday\, March 5th\, to see Mrs. Lee’s Daffodil Garden. Meet at the church at 8:45am. We will have lunch and be back in the late afternoon. Please sign up at the welcome desk.
URL:https://rodgersbaptist.net/event/rodgers-rovers-4/
LOCATION:Rodgers Baptist Church\, 801 W. Buckingham Rd\, Garland\, TX\, 75040\, United States
CATEGORIES:LIFE Groups
ATTACH;FMTTYPE=image/png:https://rodgersbaptist.net/wp-content/uploads/2025/12/Rodgers-Rovers-Templates-1.png
END:VEVENT
BEGIN:VEVENT
DTSTART;TZID=America/Chicago:20260313T190000
DTEND;TZID=America/Chicago:20260313T210000
DTSTAMP:20260421T010342
CREATED:20251215T000048Z
LAST-MODIFIED:20260218T035440Z
UID:10009914-1773428400-1773435600@rodgersbaptist.net
SUMMARY:"The Verdict That Matters"
DESCRIPTION:On Friday\, March 13\, and Saturday\, March 14\, our “Acting in Faith” ministry will present “The Verdict that Matters\,” a play written and directed by our Minister of Music\, Bro. Joshua Walker. You will witness a courtroom unlike any other—a dramatization of guilt\, grace\, justice\, and mercy. A man stands accused\, and his family bears the weight of his choices. As truth is uncovered and accusations fly\, a greater story unfolds: one of substitution\, redemption\, and the eternal verdict that truly matters.  More information is available at https://rodgersbaptist.net/the-verdict-that-matters/.
URL:https://rodgersbaptist.net/event/the-verdict-that-matters/2026-03-13/
LOCATION:Rodgers Baptist Church\, 801 W. Buckingham Rd\, Garland\, TX\, 75040\, United States
CATEGORIES:All Church Event
ATTACH;FMTTYPE=image/png:https://rodgersbaptist.net/wp-content/uploads/2025/12/The-Verdict-That-Matters-Banner.png
ORGANIZER;CN="Joshua Walker":MAILTO:jwalker@rodgersbaptist.net
END:VEVENT
BEGIN:VEVENT
DTSTART;TZID=America/Chicago:20260314T190000
DTEND;TZID=America/Chicago:20260314T210000
DTSTAMP:20260421T010342
CREATED:20251215T000048Z
LAST-MODIFIED:20260218T035440Z
UID:10009915-1773514800-1773522000@rodgersbaptist.net
SUMMARY:"The Verdict That Matters"
DESCRIPTION:On Friday\, March 13\, and Saturday\, March 14\, our “Acting in Faith” ministry will present “The Verdict that Matters\,” a play written and directed by our Minister of Music\, Bro. Joshua Walker. You will witness a courtroom unlike any other—a dramatization of guilt\, grace\, justice\, and mercy. A man stands accused\, and his family bears the weight of his choices. As truth is uncovered and accusations fly\, a greater story unfolds: one of substitution\, redemption\, and the eternal verdict that truly matters.  More information is available at https://rodgersbaptist.net/the-verdict-that-matters/.
URL:https://rodgersbaptist.net/event/the-verdict-that-matters/2026-03-14/
LOCATION:Rodgers Baptist Church\, 801 W. Buckingham Rd\, Garland\, TX\, 75040\, United States
CATEGORIES:All Church Event
ATTACH;FMTTYPE=image/png:https://rodgersbaptist.net/wp-content/uploads/2025/12/The-Verdict-That-Matters-Banner.png
ORGANIZER;CN="Joshua Walker":MAILTO:jwalker@rodgersbaptist.net
END:VEVENT
BEGIN:VEVENT
DTSTART;TZID=America/Chicago:20260315T193000
DTEND;TZID=America/Chicago:20260315T210000
DTSTAMP:20260421T010343
CREATED:20251215T000003Z
LAST-MODIFIED:20260213T024701Z
UID:10009916-1773603000-1773608400@rodgersbaptist.net
SUMMARY:Youth "Let's Go" to Twisted Trompo
DESCRIPTION:Our March Youth “Let’s Go” event will be on Sunday\, March 15th\, after the evening service. We will be going to Twisted Trompo on Broadway. Families are welcome to join. Teens can be picked up at the restaurant at 8:45 or at the church at 9pm.
URL:https://rodgersbaptist.net/event/youth-lets-go-4/
LOCATION:Twisted Trompo\, 3036 Broadway Blvd\, Garland\, 75041\, United States
CATEGORIES:Youth Events
ATTACH;FMTTYPE=image/png:https://rodgersbaptist.net/wp-content/uploads/2025/10/RBC-Student-Ministires-Tentative-Logo-1.png
ORGANIZER;CN="Jason Smith":MAILTO:jsmith@rodgersbaptist.net
END:VEVENT
BEGIN:VEVENT
DTSTART;TZID=America/Chicago:20260320T200000
DTEND;TZID=America/Chicago:20260321T080000
DTSTAMP:20260421T010343
CREATED:20251215T000036Z
LAST-MODIFIED:20260304T195707Z
UID:10009917-1774036800-1774080000@rodgersbaptist.net
SUMMARY:Youth Lock-In
DESCRIPTION:All teens are welcome to join us for our Spring Break Youth Lock-In\, March 20-21\, from 8pm to 8am. Contact Bro. Jason Smith for more details and to register: jsmith@rodgersbaptist.net.
URL:https://rodgersbaptist.net/event/youth-lock-in/
LOCATION:Rodgers Baptist Church\, 801 W. Buckingham Rd\, Garland\, TX\, 75040\, United States
CATEGORIES:Youth Events
ATTACH;FMTTYPE=image/png:https://rodgersbaptist.net/wp-content/uploads/2025/12/Youth-Lock-In.png
ORGANIZER;CN="Jason Smith":MAILTO:jsmith@rodgersbaptist.net
END:VEVENT
BEGIN:VEVENT
DTSTART;TZID=America/Chicago:20260327T183000
DTEND;TZID=America/Chicago:20260327T200000
DTSTAMP:20260421T010343
CREATED:20260222T184620Z
LAST-MODIFIED:20260304T200246Z
UID:10010049-1774636200-1774641600@rodgersbaptist.net
SUMMARY:Ladies' Night Out
DESCRIPTION:Join us on Friday\, March 27th\, at 6:30pm in the fellowship hall for our first ladies’ fellowship of 2026! Bring a dish and join us for fellowship. We’ll also be kicking off our prayer partner initiative for the year. \nPlease bring a dish according to your last name: \n\nA-G: Main Dish\nH-N: Side Dish\nO-Z: Dessert\n\nThe church will provide tea and water. If you’d like to have another beverage\, please bring some to share.
URL:https://rodgersbaptist.net/event/ladies-night-out/
LOCATION:Rodgers Baptist Church\, 801 W. Buckingham Rd\, Garland\, TX\, 75040\, United States
CATEGORIES:Ladies' Events
ATTACH;FMTTYPE=image/png:https://rodgersbaptist.net/wp-content/uploads/2026/02/Ladies-Night-Out.png
END:VEVENT
BEGIN:VEVENT
DTSTART;TZID=America/Chicago:20260328T080000
DTEND;TZID=America/Chicago:20260328T100000
DTSTAMP:20260421T010343
CREATED:20251215T000021Z
LAST-MODIFIED:20260302T224338Z
UID:10009918-1774684800-1774692000@rodgersbaptist.net
SUMMARY:Bibles & Bacon with Special Speaker Todd Houck
DESCRIPTION:Our next men’s prayer breakfast will be on Saturday\, March 28\, 2026. We will enjoy a hearty breakfast\, fellowship\, prayer\, and time in God’s Word. The cost is $5. Sign up at the welcome desk or online here.
URL:https://rodgersbaptist.net/event/bibles-bacon-with-special-speaker-todd-houck/
LOCATION:Rodgers Baptist Church\, 801 W. Buckingham Rd\, Garland\, TX\, 75040\, United States
CATEGORIES:Men's Events
ATTACH;FMTTYPE=image/png:https://rodgersbaptist.net/wp-content/uploads/2025/10/Bibles-Bacon.png
END:VEVENT
BEGIN:VEVENT
DTSTART;TZID=America/Chicago:20260329T103000
DTEND;TZID=America/Chicago:20260329T143000
DTSTAMP:20260421T010343
CREATED:20251215T000009Z
LAST-MODIFIED:20260305T220514Z
UID:10009920-1774780200-1774794600@rodgersbaptist.net
SUMMARY:Fellowship Sunday with Special Speaker Todd Houck
DESCRIPTION:Sunday\, March 29\, is Fellowship Sunday. Bro. Todd Houck of Temple Baptist Church in Hot Springs\, Arkansas\, will be our guest speaker. We will have a meal together after the morning service in the gym. Everyone is invited to bring a main dish\, side\, and dessert to share. There will be no evening service on this day.
URL:https://rodgersbaptist.net/event/fellowship-sunday-with-special-speaker-todd-houck/
LOCATION:Rodgers Baptist Church\, 801 W. Buckingham Rd\, Garland\, TX\, 75040\, United States
CATEGORIES:All Church Event
ATTACH;FMTTYPE=image/png:https://rodgersbaptist.net/wp-content/uploads/2025/12/Fellowship-Sunday.png
END:VEVENT
BEGIN:VEVENT
DTSTART;TZID=America/Chicago:20260402T200000
DTEND;TZID=America/Chicago:20260402T220000
DTSTAMP:20260421T010343
CREATED:20260319T205443Z
LAST-MODIFIED:20260323T215442Z
UID:10010058-1775160000-1775167200@rodgersbaptist.net
SUMMARY:RBC Student Ministry Board Game Night
DESCRIPTION:After the Lord’s Supper Service on Thursday\, April 2nd\, our teens will meet upstairs in the youth room for board games\, food\, and fellowship. Bring a friend\, snacks\, and your favorite games!
URL:https://rodgersbaptist.net/event/rbc-student-ministry-board-game-night/
LOCATION:Rodgers Baptist Church\, 801 W. Buckingham Rd\, Garland\, TX\, 75040\, United States
CATEGORIES:Youth Events
ATTACH;FMTTYPE=image/png:https://rodgersbaptist.net/wp-content/uploads/2025/10/RBC-Student-Ministires-Tentative-Logo-1.png
ORGANIZER;CN="Jason Smith":MAILTO:jsmith@rodgersbaptist.net
END:VEVENT
BEGIN:VEVENT
DTSTART;TZID=America/Chicago:20260405T064500
DTEND;TZID=America/Chicago:20260405T090000
DTSTAMP:20260421T010343
CREATED:20251215T000009Z
LAST-MODIFIED:20260323T215346Z
UID:10009929-1775371500-1775379600@rodgersbaptist.net
SUMMARY:Sunrise Service
DESCRIPTION:Join Rodgers Baptist Church on Easter Sunday for our Sunrise Service on the front lawn. Enjoy music and time in God’s Word as we celebrate our risen Savior. After the Sunrise Service\, everyone is invited to enjoy breakfast before our LIFE Groups meet at 9:15.
URL:https://rodgersbaptist.net/event/sunrise-service/
LOCATION:Rodgers Baptist Church\, 801 W. Buckingham Rd\, Garland\, TX\, 75040\, United States
CATEGORIES:All Church Event
ATTACH;FMTTYPE=image/png:https://rodgersbaptist.net/wp-content/uploads/2026/03/Easter-Sunday-1.png
END:VEVENT
BEGIN:VEVENT
DTSTART;TZID=America/Chicago:20260409T084500
DTEND;TZID=America/Chicago:20260409T150000
DTSTAMP:20260421T010343
CREATED:20251215T000002Z
LAST-MODIFIED:20260327T010803Z
UID:10009930-1775724300-1775746800@rodgersbaptist.net
SUMMARY:Rodgers Rovers Go to the Museum
DESCRIPTION:On Thursday\, April 9th\, the Rodgers Rovers will go to the Antique Car and Toy Museum in Ft. Worth. They will leave the church at 8:45 and return after lunch. The museum is free\, but make sure to bring money for lunch. See Pam Baker to sign up.
URL:https://rodgersbaptist.net/event/rodgers-rovers-5/
LOCATION:Rodgers Baptist Church\, 801 W. Buckingham Rd\, Garland\, TX\, 75040\, United States
CATEGORIES:LIFE Groups
END:VEVENT
BEGIN:VEVENT
DTSTART;TZID=America/Chicago:20260419T193000
DTEND;TZID=America/Chicago:20260419T210000
DTSTAMP:20260421T010343
CREATED:20251215T000033Z
LAST-MODIFIED:20260413T224734Z
UID:10009941-1776627000-1776632400@rodgersbaptist.net
SUMMARY:Youth "Let's Go" to Braum's
DESCRIPTION:Our May Youth “Let’s Go” event will be on Sunday\, April 19th\, after the evening service. We’ll be going to the Braum’s on Centennial Blvd in Richardson. Families are welcome to join. Teens can be picked up at the restaurant at 8:45 or at the church at 9pm.
URL:https://rodgersbaptist.net/event/youth-lets-go-6/
LOCATION:Braum’s Ice Cream & Dairy Store\, 518 Centennial Blvd\, Richardson\, 75040\, United States
CATEGORIES:Youth Events
ATTACH;FMTTYPE=image/png:https://rodgersbaptist.net/wp-content/uploads/2025/10/RBC-Student-Ministires-Tentative-Logo-1.png
ORGANIZER;CN="Jason Smith":MAILTO:jsmith@rodgersbaptist.net
END:VEVENT
BEGIN:VEVENT
DTSTART;TZID=America/Chicago:20260423T110000
DTEND;TZID=America/Chicago:20260425T170000
DTSTAMP:20260421T010343
CREATED:20251215T000058Z
LAST-MODIFIED:20260416T220645Z
UID:10009934-1776942000-1777136400@rodgersbaptist.net
SUMMARY:Men's Retreat
DESCRIPTION:Our 2026 Men’s Retreat will be April 23-25. The cost is $75 per man\, and sons who live at home can come for free. Click here for a flyer with information about the park and the retreat schedule. To register\, click here.
URL:https://rodgersbaptist.net/event/mens-retreat/
LOCATION:Cleburne State Park\, 5800 Park Rd 21\, Cleburne\, 76033\, United States
CATEGORIES:Men's Events
ATTACH;FMTTYPE=image/png:https://rodgersbaptist.net/wp-content/uploads/2025/12/2026-Mens-Retreat-Header.png
END:VEVENT
BEGIN:VEVENT
DTSTART;TZID=America/Chicago:20260502T133000
DTEND;TZID=America/Chicago:20260502T163000
DTSTAMP:20260421T010343
CREATED:20251215T000027Z
LAST-MODIFIED:20260418T011744Z
UID:10009936-1777728600-1777739400@rodgersbaptist.net
SUMMARY:Youth Go-Karting to Shenaniganz
DESCRIPTION:On Saturday\, May 2\, the RBC Youth Ministry teens will go go-karting at Shenaniganz in Rockwall. We will meet at 1:30 at the church and anticipate being back around 4:30. The cost is $25 and first-time guests go free (contact Bro. Jason Smith for the discount code). Click here to register.
URL:https://rodgersbaptist.net/event/youth-go-karting/
LOCATION:Rodgers Baptist Church\, 801 W. Buckingham Rd\, Garland\, TX\, 75040\, United States
CATEGORIES:Youth Events
ATTACH;FMTTYPE=image/png:https://rodgersbaptist.net/wp-content/uploads/2025/12/RBC-Student-Ministries-Go-Karting.png
ORGANIZER;CN="Jason Smith":MAILTO:jsmith@rodgersbaptist.net
END:VEVENT
END:VCALENDAR