BEGIN:VCALENDAR
VERSION:2.0
PRODID:-//Rodgers Baptist Church - ECPv6.15.20//NONSGML v1.0//EN
CALSCALE:GREGORIAN
METHOD:PUBLISH
X-ORIGINAL-URL:https://rodgersbaptist.net
X-WR-CALDESC:Events for Rodgers Baptist Church
REFRESH-INTERVAL;VALUE=DURATION:PT1H
X-Robots-Tag:noindex
X-PUBLISHED-TTL:PT1H
BEGIN:VTIMEZONE
TZID:America/Chicago
BEGIN:DAYLIGHT
TZOFFSETFROM:-0600
TZOFFSETTO:-0500
TZNAME:CDT
DTSTART:20250309T080000
END:DAYLIGHT
BEGIN:STANDARD
TZOFFSETFROM:-0500
TZOFFSETTO:-0600
TZNAME:CST
DTSTART:20251102T070000
END:STANDARD
BEGIN:DAYLIGHT
TZOFFSETFROM:-0600
TZOFFSETTO:-0500
TZNAME:CDT
DTSTART:20260308T080000
END:DAYLIGHT
BEGIN:STANDARD
TZOFFSETFROM:-0500
TZOFFSETTO:-0600
TZNAME:CST
DTSTART:20261101T070000
END:STANDARD
BEGIN:DAYLIGHT
TZOFFSETFROM:-0600
TZOFFSETTO:-0500
TZNAME:CDT
DTSTART:20270314T080000
END:DAYLIGHT
BEGIN:STANDARD
TZOFFSETFROM:-0500
TZOFFSETTO:-0600
TZNAME:CST
DTSTART:20271107T070000
END:STANDARD
END:VTIMEZONE
BEGIN:VEVENT
DTSTART;TZID=America/Chicago:20260611T100000
DTEND;TZID=America/Chicago:20260611T120000
DTSTAMP:20260420T194504
CREATED:20251215T000017Z
LAST-MODIFIED:20251213T031021Z
UID:10009950-1781172000-1781179200@rodgersbaptist.net
SUMMARY:Rodgers Rovers
DESCRIPTION:The June Rodgers Rovers event will be held on Thursday\, June 11th. Check back later for more information.
URL:https://rodgersbaptist.net/event/rodgers-rovers-7/
LOCATION:Rodgers Baptist Church\, 801 W. Buckingham Rd\, Garland\, TX\, 75040\, United States
CATEGORIES:LIFE Groups
END:VEVENT
BEGIN:VEVENT
DTSTART;TZID=America/Chicago:20260613T180000
DTEND;TZID=America/Chicago:20260613T200000
DTSTAMP:20260420T194504
CREATED:20251215T000047Z
LAST-MODIFIED:20251213T031221Z
UID:10009951-1781373600-1781380800@rodgersbaptist.net
SUMMARY:Youth Board Game Night
DESCRIPTION:RBC Student Ministry teens will get together on Saturday\, June 13th\, for a board game night. Check back later for more information.
URL:https://rodgersbaptist.net/event/youth-board-game-night/
LOCATION:Rodgers Baptist Church\, 801 W. Buckingham Rd\, Garland\, TX\, 75040\, United States
CATEGORIES:Youth Events
END:VEVENT
BEGIN:VEVENT
DTSTART;TZID=America/Chicago:20260629T110000
DTEND;TZID=America/Chicago:20260703T130000
DTSTAMP:20260420T194504
CREATED:20251215T000022Z
LAST-MODIFIED:20251213T032756Z
UID:10009955-1782730800-1783083600@rodgersbaptist.net
SUMMARY:Church Camp
DESCRIPTION:Church Camp 2026 will be June 29-July 3rd! Check back later for more information.
URL:https://rodgersbaptist.net/event/church-camp/
LOCATION:Rodgers Baptist Church\, 801 W. Buckingham Rd\, Garland\, TX\, 75040\, United States
CATEGORIES:Youth Events
ORGANIZER;CN="Jason Smith":MAILTO:jsmith@rodgersbaptist.net
END:VEVENT
BEGIN:VEVENT
DTSTART;TZID=America/Chicago:20260707T183000
DTEND;TZID=America/Chicago:20260707T200000
DTSTAMP:20260420T194504
CREATED:20251215T000054Z
LAST-MODIFIED:20251219T002814Z
UID:10009830-1783449000-1783454400@rodgersbaptist.net
SUMMARY:RBC Book Club
DESCRIPTION:Our church’s Book Club meets every two months to enjoy a potluck-style dinner and discuss the three books we read since the last meeting. Anyone interested in joining can contact us to get the book list and to learn more about the theme for the dinner.
URL:https://rodgersbaptist.net/event/rbc-book-club-2/2026-07-07/
LOCATION:Rodgers Baptist Church\, 801 W. Buckingham Rd\, Garland\, TX\, 75040\, United States
CATEGORIES:All Church Event
ATTACH;FMTTYPE=image/png:https://rodgersbaptist.net/wp-content/uploads/2025/10/Book-Club.png
END:VEVENT
BEGIN:VEVENT
DTSTART;TZID=America/Chicago:20260709T100000
DTEND;TZID=America/Chicago:20260709T120000
DTSTAMP:20260420T194504
CREATED:20251215T000017Z
LAST-MODIFIED:20251213T033243Z
UID:10009957-1783591200-1783598400@rodgersbaptist.net
SUMMARY:Rodgers Rovers
DESCRIPTION:The July Rodgers Rovers event will be held on Thursday\, July 9th. Check back later for more information.
URL:https://rodgersbaptist.net/event/rodgers-rovers-8/
LOCATION:Rodgers Baptist Church\, 801 W. Buckingham Rd\, Garland\, TX\, 75040\, United States
CATEGORIES:LIFE Groups
END:VEVENT
BEGIN:VEVENT
DTSTART;TZID=America/Chicago:20260712T180000
DTEND;TZID=America/Chicago:20260712T193000
DTSTAMP:20260420T194504
CREATED:20251215T000046Z
LAST-MODIFIED:20251213T033551Z
UID:10009959-1783879200-1783884600@rodgersbaptist.net
SUMMARY:Missions Banquet
DESCRIPTION:Join us on Sunday\, July 12th\, in the fellowship hall for our annual Missions Banquet. Bring a dish and a dessert to share as we fellowship and hear from a missionary. Check back later for more information.
URL:https://rodgersbaptist.net/event/missions-banquet/
LOCATION:Rodgers Baptist Church\, 801 W. Buckingham Rd\, Garland\, TX\, 75040\, United States
CATEGORIES:All Church Event
END:VEVENT
BEGIN:VEVENT
DTSTART;TZID=America/Chicago:20260720T170000
DTEND;TZID=America/Chicago:20260722T213000
DTSTAMP:20260420T194504
CREATED:20251215T000055Z
LAST-MODIFIED:20251213T034033Z
UID:10009961-1784566800-1784755800@rodgersbaptist.net
SUMMARY:Youth & Missions Conference
DESCRIPTION:Missions Conference 2026 will be July 20-22. Check back later for more information about special speakers and how to register.
URL:https://rodgersbaptist.net/event/youth-missions-conference/
LOCATION:Rodgers Baptist Church\, 801 W. Buckingham Rd\, Garland\, TX\, 75040\, United States
CATEGORIES:All Church Event,Youth Events
END:VEVENT
BEGIN:VEVENT
DTSTART;TZID=America/Chicago:20260725T040000
DTEND;TZID=America/Chicago:20260730T170000
DTSTAMP:20260420T194504
CREATED:20251215T000040Z
LAST-MODIFIED:20251213T034249Z
UID:10009962-1784952000-1785430800@rodgersbaptist.net
SUMMARY:Amazing Grace Children's Home Missions Trip
DESCRIPTION:A group will be heading down to Acolman\, Mexico\, July 25-30\, 2026\, to visit the Amazing Grace Children’s Home. Check back later for more information about the trip.
URL:https://rodgersbaptist.net/event/amazing-grace-childrens-home-missions-trip/
LOCATION:Rodgers Baptist Church\, 801 W. Buckingham Rd\, Garland\, TX\, 75040\, United States
CATEGORIES:All Church Event
END:VEVENT
BEGIN:VEVENT
DTSTART;TZID=America/Chicago:20260801T140000
DTEND;TZID=America/Chicago:20260801T160000
DTSTAMP:20260420T194504
CREATED:20251215T000006Z
LAST-MODIFIED:20251213T034748Z
UID:10009964-1785592800-1785600000@rodgersbaptist.net
SUMMARY:Youth Escape Room
DESCRIPTION:Our August RBC Student Ministries activity will be on Saturday\, August 1st. Teens will go to a local escape room to work together to beat the clock. Check back later for more information.
URL:https://rodgersbaptist.net/event/youth-escape-room/
LOCATION:Rodgers Baptist Church\, 801 W. Buckingham Rd\, Garland\, TX\, 75040\, United States
CATEGORIES:Youth Events
ORGANIZER;CN="Jason Smith":MAILTO:jsmith@rodgersbaptist.net
END:VEVENT
BEGIN:VEVENT
DTSTART;TZID=America/Chicago:20260802T180000
DTEND;TZID=America/Chicago:20260802T193000
DTSTAMP:20260420T194504
CREATED:20251215T000002Z
LAST-MODIFIED:20251213T034600Z
UID:10009963-1785693600-1785699000@rodgersbaptist.net
SUMMARY:Back to School Night
DESCRIPTION:Our fourth annual Back to School Night School Supply Giveaway will be on Sunday\, August 2nd\, during our evening service. Registrants are invited to join us for a special church service before heading into the fellowship hall to get elementary school supplies. Check back later for more information about how to register to get a school supply backpack.
URL:https://rodgersbaptist.net/event/back-to-school-night/
LOCATION:Rodgers Baptist Church\, 801 W. Buckingham Rd\, Garland\, TX\, 75040\, United States
CATEGORIES:All Church Event,Children's Events
ORGANIZER;CN="Patricia Helfenbein":MAILTO:admin@rodgersbaptist.net
END:VEVENT
BEGIN:VEVENT
DTSTART;TZID=America/Chicago:20260806T100000
DTEND;TZID=America/Chicago:20260806T120000
DTSTAMP:20260420T194504
CREATED:20251215T000056Z
LAST-MODIFIED:20251213T034909Z
UID:10009965-1786010400-1786017600@rodgersbaptist.net
SUMMARY:Rodgers Rovers
DESCRIPTION:The August Rodgers Rovers event will be held on Thursday\, August 6th. Check back later for more information.
URL:https://rodgersbaptist.net/event/rodgers-rovers-9/
LOCATION:Rodgers Baptist Church\, 801 W. Buckingham Rd\, Garland\, TX\, 75040\, United States
CATEGORIES:LIFE Groups
END:VEVENT
BEGIN:VEVENT
DTSTART;TZID=America/Chicago:20260829T080000
DTEND;TZID=America/Chicago:20260829T100000
DTSTAMP:20260420T194504
CREATED:20251215T000058Z
LAST-MODIFIED:20251213T035739Z
UID:10009969-1787990400-1787997600@rodgersbaptist.net
SUMMARY:Bibles & Bacon with Special Speaker Paul Puckett
DESCRIPTION:Our next men’s prayer breakfast will be on Saturday\, August 29\, 2026. We will enjoy a hearty breakfast\, fellowship\, prayer\, and time in God’s Word brought by Special Speaker Paul Puckett. The cost is $5. Come back later for information about how to sign up.
URL:https://rodgersbaptist.net/event/bibles-bacon-with-special-speaker-paul-puckett/
LOCATION:Rodgers Baptist Church\, 801 W. Buckingham Rd\, Garland\, TX\, 75040\, United States
CATEGORIES:Men's Events
ATTACH;FMTTYPE=image/png:https://rodgersbaptist.net/wp-content/uploads/2025/10/Bibles-Bacon.png
END:VEVENT
BEGIN:VEVENT
DTSTART;TZID=America/Chicago:20260830T103000
DTEND;TZID=America/Chicago:20260830T143000
DTSTAMP:20260420T194504
CREATED:20251215T000045Z
LAST-MODIFIED:20251213T035904Z
UID:10009970-1788085800-1788100200@rodgersbaptist.net
SUMMARY:Fellowship Sunday with Special Speaker Paul Puckett
DESCRIPTION:Sunday\, August 30\, is Fellowship Sunday with Special Speaker Paul Puckett. We will have a meal together after the morning service in the gym. Everyone is invited to bring a main dish\, side\, and dessert to share. There will be no evening service on this day.
URL:https://rodgersbaptist.net/event/fellowship-sunday-with-special-speaker-paul-puckett/
LOCATION:Rodgers Baptist Church\, 801 W. Buckingham Rd\, Garland\, TX\, 75040\, United States
CATEGORIES:All Church Event
END:VEVENT
BEGIN:VEVENT
DTSTART;TZID=America/Chicago:20260901T183000
DTEND;TZID=America/Chicago:20260901T200000
DTSTAMP:20260420T194504
CREATED:20251215T000054Z
LAST-MODIFIED:20251219T002814Z
UID:10009831-1788287400-1788292800@rodgersbaptist.net
SUMMARY:RBC Book Club
DESCRIPTION:Our church’s Book Club meets every two months to enjoy a potluck-style dinner and discuss the three books we read since the last meeting. Anyone interested in joining can contact us to get the book list and to learn more about the theme for the dinner.
URL:https://rodgersbaptist.net/event/rbc-book-club-2/2026-09-01/
LOCATION:Rodgers Baptist Church\, 801 W. Buckingham Rd\, Garland\, TX\, 75040\, United States
CATEGORIES:All Church Event
ATTACH;FMTTYPE=image/png:https://rodgersbaptist.net/wp-content/uploads/2025/10/Book-Club.png
END:VEVENT
BEGIN:VEVENT
DTSTART;TZID=America/Chicago:20260905T140000
DTEND;TZID=America/Chicago:20260905T160000
DTSTAMP:20260420T194504
CREATED:20251215T000039Z
LAST-MODIFIED:20251213T135428Z
UID:10009972-1788616800-1788624000@rodgersbaptist.net
SUMMARY:Youth Scavenger Hunt
DESCRIPTION:Our September RBC Student Ministries event will be a scavenger hunt on Saturday\, September 5th. Check back later for more information.
URL:https://rodgersbaptist.net/event/youth-scavenger-hunt/
LOCATION:Rodgers Baptist Church\, 801 W. Buckingham Rd\, Garland\, TX\, 75040\, United States
CATEGORIES:Youth Events
ORGANIZER;CN="Jason Smith":MAILTO:jsmith@rodgersbaptist.net
END:VEVENT
BEGIN:VEVENT
DTSTART;TZID=America/Chicago:20260909T190000
DTEND;TZID=America/Chicago:20260909T200000
DTSTAMP:20260420T194504
CREATED:20251215T000042Z
LAST-MODIFIED:20251213T135804Z
UID:10009973-1788980400-1788984000@rodgersbaptist.net
SUMMARY:Ladies' Bible Study
DESCRIPTION:Our Fall 2026 Ladies’ Bible Study will begin on Wednesday\, September 9th\, and go until October 28th. Check back later for more information.
URL:https://rodgersbaptist.net/event/ladies-bible-study-2/2026-09-09/
LOCATION:Rodgers Baptist Church\, 801 W. Buckingham Rd\, Garland\, TX\, 75040\, United States
CATEGORIES:Ladies' Events
END:VEVENT
BEGIN:VEVENT
DTSTART;TZID=America/Chicago:20260912T120000
DTEND;TZID=America/Chicago:20260912T140000
DTSTAMP:20260420T194504
CREATED:20251215T000011Z
LAST-MODIFIED:20251213T140030Z
UID:10009981-1789214400-1789221600@rodgersbaptist.net
SUMMARY:Music Ministry Picnic
DESCRIPTION:Our choir and orchestra members are invited to join us on Saturday\, September 12th\, for our Music Ministry Picnic. Check back later for more information.
URL:https://rodgersbaptist.net/event/music-ministry-picnic/
LOCATION:Rodgers Baptist Church\, 801 W. Buckingham Rd\, Garland\, TX\, 75040\, United States
CATEGORIES:All Church Event
ORGANIZER;CN="Joshua Walker":MAILTO:jwalker@rodgersbaptist.net
END:VEVENT
BEGIN:VEVENT
DTSTART;TZID=America/Chicago:20260916T190000
DTEND;TZID=America/Chicago:20260916T200000
DTSTAMP:20260420T194504
CREATED:20251215T000042Z
LAST-MODIFIED:20251213T135804Z
UID:10009974-1789585200-1789588800@rodgersbaptist.net
SUMMARY:Ladies' Bible Study
DESCRIPTION:Our Fall 2026 Ladies’ Bible Study will begin on Wednesday\, September 9th\, and go until October 28th. Check back later for more information.
URL:https://rodgersbaptist.net/event/ladies-bible-study-2/2026-09-16/
LOCATION:Rodgers Baptist Church\, 801 W. Buckingham Rd\, Garland\, TX\, 75040\, United States
CATEGORIES:Ladies' Events
END:VEVENT
BEGIN:VEVENT
DTSTART;TZID=America/Chicago:20260923T190000
DTEND;TZID=America/Chicago:20260923T200000
DTSTAMP:20260420T194504
CREATED:20251215T000042Z
LAST-MODIFIED:20251213T135804Z
UID:10009975-1790190000-1790193600@rodgersbaptist.net
SUMMARY:Ladies' Bible Study
DESCRIPTION:Our Fall 2026 Ladies’ Bible Study will begin on Wednesday\, September 9th\, and go until October 28th. Check back later for more information.
URL:https://rodgersbaptist.net/event/ladies-bible-study-2/2026-09-23/
LOCATION:Rodgers Baptist Church\, 801 W. Buckingham Rd\, Garland\, TX\, 75040\, United States
CATEGORIES:Ladies' Events
END:VEVENT
BEGIN:VEVENT
DTSTART;TZID=America/Chicago:20260930T190000
DTEND;TZID=America/Chicago:20260930T200000
DTSTAMP:20260420T194504
CREATED:20251215T000042Z
LAST-MODIFIED:20251213T135804Z
UID:10009976-1790794800-1790798400@rodgersbaptist.net
SUMMARY:Ladies' Bible Study
DESCRIPTION:Our Fall 2026 Ladies’ Bible Study will begin on Wednesday\, September 9th\, and go until October 28th. Check back later for more information.
URL:https://rodgersbaptist.net/event/ladies-bible-study-2/2026-09-30/
LOCATION:Rodgers Baptist Church\, 801 W. Buckingham Rd\, Garland\, TX\, 75040\, United States
CATEGORIES:Ladies' Events
END:VEVENT
BEGIN:VEVENT
DTSTART;TZID=America/Chicago:20261001T100000
DTEND;TZID=America/Chicago:20261001T120000
DTSTAMP:20260420T194504
CREATED:20251215T000049Z
LAST-MODIFIED:20251213T140802Z
UID:10009997-1790848800-1790856000@rodgersbaptist.net
SUMMARY:Rodgers Rovers
DESCRIPTION:The October Rodgers Rovers event will be held on Thursday\, October 1st. Check back later for more information.
URL:https://rodgersbaptist.net/event/rodgers-rovers-11/
LOCATION:Rodgers Baptist Church\, 801 W. Buckingham Rd\, Garland\, TX\, 75040\, United States
CATEGORIES:LIFE Groups
END:VEVENT
BEGIN:VEVENT
DTSTART;TZID=America/Chicago:20261003T170000
DTEND;TZID=America/Chicago:20261003T190000
DTSTAMP:20260420T194504
CREATED:20251215T000010Z
LAST-MODIFIED:20260117T231858Z
UID:10009998-1791046800-1791054000@rodgersbaptist.net
SUMMARY:Tacos & Truth with Special Speaker Craig Locke
DESCRIPTION:Our men will meet on Saturday\, October 3rd\, at 5pm for Tacos & Truth. Join us for a taco dinner\, fellowship\, and time in God’s Word. Our Special Speaker for October will be Bro. Craig Locke\, pastor of Willow Springs Missionary Baptist Church. The cost is $10. Please check later for more information about how to register.
URL:https://rodgersbaptist.net/event/tacos-truth-with-special-speaker-craig-locke/
LOCATION:Rodgers Baptist Church\, 801 W. Buckingham Rd\, Garland\, TX\, 75040\, United States
CATEGORIES:Men's Events
ATTACH;FMTTYPE=image/png:https://rodgersbaptist.net/wp-content/uploads/2025/12/Tacos-Truth-without-Date.png
ORGANIZER;CN="Pastor Travis Gilbert":MAILTO:pastortravis@rodgersbaptist.net
END:VEVENT
BEGIN:VEVENT
DTSTART;TZID=America/Chicago:20261004T103000
DTEND;TZID=America/Chicago:20261004T143000
DTSTAMP:20260420T194504
CREATED:20251215T000012Z
LAST-MODIFIED:20251213T141317Z
UID:10009999-1791109800-1791124200@rodgersbaptist.net
SUMMARY:Fall Meeting Fellowship Sunday with Special Speaker Craig Locke
DESCRIPTION:Bro. Craig Locke\, pastor of Willow Springs Missionary Baptist Church\, will be our guest speaker for our 2026 Fall Meeting. Join us for special services October 4-5 as we set aside time to grow deeper in God’s Word. The Sunday morning service will be followed by a potluck lunch in the gym and an afternoon service with no evening service that day. We will also have special music performed by the Texas Country Boys during the Monday evening service. Spanish translation will be available during the Monday evening service.
URL:https://rodgersbaptist.net/event/fall-meeting-fellowship-sunday-with-special-speaker-craig-locke/
LOCATION:Rodgers Baptist Church\, 801 W. Buckingham Rd\, Garland\, TX\, 75040\, United States
CATEGORIES:All Church Event
END:VEVENT
BEGIN:VEVENT
DTSTART;TZID=America/Chicago:20261005T190000
DTEND;TZID=America/Chicago:20261005T203000
DTSTAMP:20260420T194504
CREATED:20251215T000024Z
LAST-MODIFIED:20251213T141437Z
UID:10010000-1791226800-1791232200@rodgersbaptist.net
SUMMARY:Fall Meeting with Special Speaker Craig Locke and the Texas Country Boys
DESCRIPTION:Bro. Craig Locke\, pastor of Willow Springs Missionary Baptist Church\, will be our guest speaker for our 2026 Fall Meeting. Join us for special services October 4-5 as we set aside time to grow deeper in God’s Word. We will have special music performed by the Texas Country Boys during the Monday evening service. Spanish translation will be available during the Monday evening service.
URL:https://rodgersbaptist.net/event/fall-meeting-with-special-speaker-craig-locke-and-the-texas-country-boys/
LOCATION:Rodgers Baptist Church\, 801 W. Buckingham Rd\, Garland\, TX\, 75040\, United States
CATEGORIES:All Church Event
END:VEVENT
BEGIN:VEVENT
DTSTART;TZID=America/Chicago:20261007T190000
DTEND;TZID=America/Chicago:20261007T200000
DTSTAMP:20260420T194504
CREATED:20251215T000042Z
LAST-MODIFIED:20251213T135804Z
UID:10009977-1791399600-1791403200@rodgersbaptist.net
SUMMARY:Ladies' Bible Study
DESCRIPTION:Our Fall 2026 Ladies’ Bible Study will begin on Wednesday\, September 9th\, and go until October 28th. Check back later for more information.
URL:https://rodgersbaptist.net/event/ladies-bible-study-2/2026-10-07/
LOCATION:Rodgers Baptist Church\, 801 W. Buckingham Rd\, Garland\, TX\, 75040\, United States
CATEGORIES:Ladies' Events
END:VEVENT
BEGIN:VEVENT
DTSTART;TZID=America/Chicago:20261014T190000
DTEND;TZID=America/Chicago:20261014T200000
DTSTAMP:20260420T194504
CREATED:20251215T000042Z
LAST-MODIFIED:20251213T135804Z
UID:10009978-1792004400-1792008000@rodgersbaptist.net
SUMMARY:Ladies' Bible Study
DESCRIPTION:Our Fall 2026 Ladies’ Bible Study will begin on Wednesday\, September 9th\, and go until October 28th. Check back later for more information.
URL:https://rodgersbaptist.net/event/ladies-bible-study-2/2026-10-14/
LOCATION:Rodgers Baptist Church\, 801 W. Buckingham Rd\, Garland\, TX\, 75040\, United States
CATEGORIES:Ladies' Events
END:VEVENT
BEGIN:VEVENT
DTSTART;TZID=America/Chicago:20261021T190000
DTEND;TZID=America/Chicago:20261021T200000
DTSTAMP:20260420T194504
CREATED:20251215T000042Z
LAST-MODIFIED:20251213T135804Z
UID:10009979-1792609200-1792612800@rodgersbaptist.net
SUMMARY:Ladies' Bible Study
DESCRIPTION:Our Fall 2026 Ladies’ Bible Study will begin on Wednesday\, September 9th\, and go until October 28th. Check back later for more information.
URL:https://rodgersbaptist.net/event/ladies-bible-study-2/2026-10-21/
LOCATION:Rodgers Baptist Church\, 801 W. Buckingham Rd\, Garland\, TX\, 75040\, United States
CATEGORIES:Ladies' Events
END:VEVENT
BEGIN:VEVENT
DTSTART;TZID=America/Chicago:20261028T190000
DTEND;TZID=America/Chicago:20261028T200000
DTSTAMP:20260420T194504
CREATED:20251215T000042Z
LAST-MODIFIED:20251213T135804Z
UID:10009980-1793214000-1793217600@rodgersbaptist.net
SUMMARY:Ladies' Bible Study
DESCRIPTION:Our Fall 2026 Ladies’ Bible Study will begin on Wednesday\, September 9th\, and go until October 28th. Check back later for more information.
URL:https://rodgersbaptist.net/event/ladies-bible-study-2/2026-10-28/
LOCATION:Rodgers Baptist Church\, 801 W. Buckingham Rd\, Garland\, TX\, 75040\, United States
CATEGORIES:Ladies' Events
END:VEVENT
BEGIN:VEVENT
DTSTART;TZID=America/Chicago:20261031T140000
DTEND;TZID=America/Chicago:20261031T160000
DTSTAMP:20260420T194504
CREATED:20251215T000058Z
LAST-MODIFIED:20251214T035835Z
UID:10010006-1793455200-1793462400@rodgersbaptist.net
SUMMARY:Fall Fun Fest
DESCRIPTION:Join us on Saturday\, October 31st\, from 2 to 4 pm for our annual Fall Fun Fest. Come enjoy games\, candy\, food\, hay rides and more – there’s fun for the whole family! Everything is free\, but you do need to register to get a food ticket. Check back later for more information about how to register early and beat the line!
URL:https://rodgersbaptist.net/event/fall-fun-fest-2/
LOCATION:Rodgers Baptist Church\, 801 W. Buckingham Rd\, Garland\, TX\, 75040\, United States
CATEGORIES:All Church Event
END:VEVENT
BEGIN:VEVENT
DTSTART;TZID=America/Chicago:20261110T183000
DTEND;TZID=America/Chicago:20261110T200000
DTSTAMP:20260420T194504
CREATED:20251215T000054Z
LAST-MODIFIED:20251219T002814Z
UID:10010023-1794335400-1794340800@rodgersbaptist.net
SUMMARY:RBC Book Club
DESCRIPTION:Our church’s Book Club meets every two months to enjoy a potluck-style dinner and discuss the three books we read since the last meeting. Anyone interested in joining can contact us to get the book list and to learn more about the theme for the dinner.
URL:https://rodgersbaptist.net/event/rbc-book-club-2/2026-11-10/
LOCATION:Rodgers Baptist Church\, 801 W. Buckingham Rd\, Garland\, TX\, 75040\, United States
CATEGORIES:All Church Event
ATTACH;FMTTYPE=image/png:https://rodgersbaptist.net/wp-content/uploads/2025/10/Book-Club.png
END:VEVENT
END:VCALENDAR