BEGIN:VCALENDAR
VERSION:2.0
PRODID:-//Rodgers Baptist Church - ECPv6.15.20//NONSGML v1.0//EN
CALSCALE:GREGORIAN
METHOD:PUBLISH
X-WR-CALNAME:Rodgers Baptist Church
X-ORIGINAL-URL:https://rodgersbaptist.net
X-WR-CALDESC:Events for Rodgers Baptist Church
REFRESH-INTERVAL;VALUE=DURATION:PT1H
X-Robots-Tag:noindex
X-PUBLISHED-TTL:PT1H
BEGIN:VTIMEZONE
TZID:America/Chicago
BEGIN:DAYLIGHT
TZOFFSETFROM:-0600
TZOFFSETTO:-0500
TZNAME:CDT
DTSTART:20240310T080000
END:DAYLIGHT
BEGIN:STANDARD
TZOFFSETFROM:-0500
TZOFFSETTO:-0600
TZNAME:CST
DTSTART:20241103T070000
END:STANDARD
BEGIN:DAYLIGHT
TZOFFSETFROM:-0600
TZOFFSETTO:-0500
TZNAME:CDT
DTSTART:20250309T080000
END:DAYLIGHT
BEGIN:STANDARD
TZOFFSETFROM:-0500
TZOFFSETTO:-0600
TZNAME:CST
DTSTART:20251102T070000
END:STANDARD
BEGIN:DAYLIGHT
TZOFFSETFROM:-0600
TZOFFSETTO:-0500
TZNAME:CDT
DTSTART:20260308T080000
END:DAYLIGHT
BEGIN:STANDARD
TZOFFSETFROM:-0500
TZOFFSETTO:-0600
TZNAME:CST
DTSTART:20261101T070000
END:STANDARD
END:VTIMEZONE
BEGIN:VEVENT
DTSTART;TZID=America/Chicago:20251012T091500
DTEND;TZID=America/Chicago:20251012T101000
DTSTAMP:20260419T152130
CREATED:20251027T032628Z
LAST-MODIFIED:20260124T195712Z
UID:10007979-1760260500-1760263800@rodgersbaptist.net
SUMMARY:LIFE Groups
DESCRIPTION:While elementary students are in their Sunday School classes\, teens and adults at Rodgers Baptist Church meet in their LIFE Groups for small group Bible Study. Our LIFE Groups Learn\, Invite\, Fellowship\, and Engage with others in similar life stages as we seek to live out the gospel in our daily lives. \nClasses & Locations\n\n0 to pre-K: Nursery rooms in the front entrance hall\nKindergarten to 5th grade: Elementary department upstairs above the front entrance hall\n6th grade to 12th grade: Youth department upstairs above the fellowship hall\nCrossroads: Upstairs above the fellowship hall\nHomebuilders: Upstairs above the fellowship hall\nAmbassadors: Upstairs above the fellowship hall\nCrusaders I: Fellowship Hall\nCrusaders II: Choir Room
URL:https://rodgersbaptist.net/event/life-groups-sunday-school-2/2025-10-12/
LOCATION:Rodgers Baptist Church\, 801 W. Buckingham Rd\, Garland\, TX\, 75040\, United States
CATEGORIES:All Church Event,Children's Events,LIFE Groups,Youth Events
END:VEVENT
BEGIN:VEVENT
DTSTART;TZID=America/Chicago:20251008T190000
DTEND;TZID=America/Chicago:20251008T200000
DTSTAMP:20260419T152130
CREATED:20251027T032540Z
LAST-MODIFIED:20251129T015951Z
UID:10007970-1759950000-1759953600@rodgersbaptist.net
SUMMARY:Mid-Week Service
DESCRIPTION:Join our adult Bible Study on Wednesday nights at 7pm in the sanctuary. We are currently studying “Why Trust God: Dealing with Life’s Issues.” \nWhile adults are meeting in the sanctuary\, kids and teens meet in their departments for fellowship and time in God’s Word.
URL:https://rodgersbaptist.net/event/mid-week-service-2/2025-10-08/
LOCATION:Rodgers Baptist Church\, 801 W. Buckingham Rd\, Garland\, TX\, 75040\, United States
CATEGORIES:All Church Event
END:VEVENT
BEGIN:VEVENT
DTSTART;TZID=America/Chicago:20251008T190000
DTEND;TZID=America/Chicago:20251008T200000
DTSTAMP:20260419T152130
CREATED:20251027T032506Z
LAST-MODIFIED:20251219T002335Z
UID:10007690-1759950000-1759953600@rodgersbaptist.net
SUMMARY:Bible Clubhouse
DESCRIPTION:All elementary-aged children are welcome to join us for Bible Clubhouse\, a mid-week Bible Study in which kids learn God’s Word while having fun through lessons\, activities\, and games.
URL:https://rodgersbaptist.net/event/bible-clubhouse-2/2025-10-08/
LOCATION:Rodgers Baptist Church\, 801 W. Buckingham Rd\, Garland\, TX\, 75040\, United States
CATEGORIES:Children's Events
ATTACH;FMTTYPE=image/jpeg:https://rodgersbaptist.net/wp-content/uploads/2025/10/Bible-Clubhouse-Business-Card-US.jpg
END:VEVENT
BEGIN:VEVENT
DTSTART;TZID=America/Chicago:20251008T190000
DTEND;TZID=America/Chicago:20251008T200000
DTSTAMP:20260419T152130
CREATED:20251026T180330Z
LAST-MODIFIED:20251219T002309Z
UID:10007149-1759950000-1759953600@rodgersbaptist.net
SUMMARY:RBC Student Ministries
DESCRIPTION:Every Wednesday\, our RBC Student Ministries meets upstairs in the youth room for a mid-week Bible Study. All youth in middle and high school are invited to attend.
URL:https://rodgersbaptist.net/event/youth-fusion/2025-10-08/
LOCATION:Rodgers Baptist Church\, 801 W. Buckingham Rd\, Garland\, TX\, 75040\, United States
CATEGORIES:Youth Events
END:VEVENT
BEGIN:VEVENT
DTSTART;TZID=America/Chicago:20251005T190000
DTEND;TZID=America/Chicago:20251005T200000
DTSTAMP:20260419T152130
CREATED:20251026T180121Z
LAST-MODIFIED:20251129T020251Z
UID:10009093-1759690800-1759694400@rodgersbaptist.net
SUMMARY:Bible Clubhouse
DESCRIPTION:All elementary-aged children are welcome to join us for Bible Clubhouse\, a mid-week Bible Study in which kids learn God’s Word while having fun through lessons\, activities\, and games.
URL:https://rodgersbaptist.net/event/bible-clubhouse/2025-10-05/
LOCATION:Rodgers Baptist Church\, 801 W. Buckingham Rd\, Garland\, TX\, 75040\, United States
CATEGORIES:Children's Events
ATTACH;FMTTYPE=image/jpeg:https://rodgersbaptist.net/wp-content/uploads/2025/10/Bible-Clubhouse-Business-Card-US.jpg
END:VEVENT
BEGIN:VEVENT
DTSTART;TZID=America/Chicago:20251005T190000
DTEND;TZID=America/Chicago:20251005T200000
DTSTAMP:20260419T152130
CREATED:20251024T032555Z
LAST-MODIFIED:20251129T020216Z
UID:10009077-1759690800-1759694400@rodgersbaptist.net
SUMMARY:Mid-Week Service
DESCRIPTION:Join our adult Bible Study on Wednesday nights at 7pm in the sanctuary. We are currently studying “Why Trust God: Dealing with Life’s Issues.” \nWhile adults are meeting in the sanctuary\, kids and teens meet in their departments for fellowship and time in God’s Word.
URL:https://rodgersbaptist.net/event/mid-week-service/2025-10-05/
LOCATION:Rodgers Baptist Church\, 801 W. Buckingham Rd\, Garland\, TX\, 75040\, United States
CATEGORIES:All Church Event
END:VEVENT
BEGIN:VEVENT
DTSTART;TZID=America/Chicago:20251005T180000
DTEND;TZID=America/Chicago:20251005T193000
DTSTAMP:20260419T152130
CREATED:20251027T032232Z
LAST-MODIFIED:20260227T030915Z
UID:10008796-1759687200-1759692600@rodgersbaptist.net
SUMMARY:Sunday Evening Worship
DESCRIPTION:Join us in the sanctuary as we end the Lord’s day in the Lord’s house with the Lord’s people. After a time of worship in music we will open God’s Word and then share prayer requests.
URL:https://rodgersbaptist.net/event/sunday-evening-worship-2/2025-10-05/
LOCATION:Rodgers Baptist Church\, 801 W. Buckingham Rd\, Garland\, TX\, 75040\, United States
CATEGORIES:All Church Event
END:VEVENT
BEGIN:VEVENT
DTSTART;TZID=America/Chicago:20251005T103000
DTEND;TZID=America/Chicago:20251005T120000
DTSTAMP:20260419T152130
CREATED:20251027T032148Z
LAST-MODIFIED:20260124T195744Z
UID:10008251-1759660200-1759665600@rodgersbaptist.net
SUMMARY:Sunday Morning Worship
DESCRIPTION:Join us in the sanctuary for a time of worship through music followed by our Sunday morning message series on Jesus the Sovereign Servant in the Gospel of Mark. During this time\, we will also have Junior Church for kids from 4 years old through 1st grade and Children’s Church for kids in 2nd through 5th grade. These classes are held upstairs in the Elementary Department. We also have nursery services available for babies and toddlers in rooms along the front entrance hallway.
URL:https://rodgersbaptist.net/event/sunday-morning-worship-2/2025-10-05/
LOCATION:Rodgers Baptist Church\, 801 W. Buckingham Rd\, Garland\, TX\, 75040\, United States
CATEGORIES:All Church Event
END:VEVENT
BEGIN:VEVENT
DTSTART;TZID=America/Chicago:20251005T091500
DTEND;TZID=America/Chicago:20251005T101000
DTSTAMP:20260419T152130
CREATED:20251027T032628Z
LAST-MODIFIED:20260124T195712Z
UID:10007978-1759655700-1759659000@rodgersbaptist.net
SUMMARY:LIFE Groups
DESCRIPTION:While elementary students are in their Sunday School classes\, teens and adults at Rodgers Baptist Church meet in their LIFE Groups for small group Bible Study. Our LIFE Groups Learn\, Invite\, Fellowship\, and Engage with others in similar life stages as we seek to live out the gospel in our daily lives. \nClasses & Locations\n\n0 to pre-K: Nursery rooms in the front entrance hall\nKindergarten to 5th grade: Elementary department upstairs above the front entrance hall\n6th grade to 12th grade: Youth department upstairs above the fellowship hall\nCrossroads: Upstairs above the fellowship hall\nHomebuilders: Upstairs above the fellowship hall\nAmbassadors: Upstairs above the fellowship hall\nCrusaders I: Fellowship Hall\nCrusaders II: Choir Room
URL:https://rodgersbaptist.net/event/life-groups-sunday-school-2/2025-10-05/
LOCATION:Rodgers Baptist Church\, 801 W. Buckingham Rd\, Garland\, TX\, 75040\, United States
CATEGORIES:All Church Event,Children's Events,LIFE Groups,Youth Events
END:VEVENT
BEGIN:VEVENT
DTSTART;TZID=America/Chicago:20251001T190000
DTEND;TZID=America/Chicago:20251001T200000
DTSTAMP:20260419T152130
CREATED:20251027T032540Z
LAST-MODIFIED:20251129T015951Z
UID:10007969-1759345200-1759348800@rodgersbaptist.net
SUMMARY:Mid-Week Service
DESCRIPTION:Join our adult Bible Study on Wednesday nights at 7pm in the sanctuary. We are currently studying “Why Trust God: Dealing with Life’s Issues.” \nWhile adults are meeting in the sanctuary\, kids and teens meet in their departments for fellowship and time in God’s Word.
URL:https://rodgersbaptist.net/event/mid-week-service-2/2025-10-01/
LOCATION:Rodgers Baptist Church\, 801 W. Buckingham Rd\, Garland\, TX\, 75040\, United States
CATEGORIES:All Church Event
END:VEVENT
BEGIN:VEVENT
DTSTART;TZID=America/Chicago:20251001T190000
DTEND;TZID=America/Chicago:20251001T200000
DTSTAMP:20260419T152130
CREATED:20251027T032506Z
LAST-MODIFIED:20251219T002335Z
UID:10007689-1759345200-1759348800@rodgersbaptist.net
SUMMARY:Bible Clubhouse
DESCRIPTION:All elementary-aged children are welcome to join us for Bible Clubhouse\, a mid-week Bible Study in which kids learn God’s Word while having fun through lessons\, activities\, and games.
URL:https://rodgersbaptist.net/event/bible-clubhouse-2/2025-10-01/
LOCATION:Rodgers Baptist Church\, 801 W. Buckingham Rd\, Garland\, TX\, 75040\, United States
CATEGORIES:Children's Events
ATTACH;FMTTYPE=image/jpeg:https://rodgersbaptist.net/wp-content/uploads/2025/10/Bible-Clubhouse-Business-Card-US.jpg
END:VEVENT
BEGIN:VEVENT
DTSTART;TZID=America/Chicago:20251001T190000
DTEND;TZID=America/Chicago:20251001T200000
DTSTAMP:20260419T152130
CREATED:20251026T180330Z
LAST-MODIFIED:20251219T002309Z
UID:10007148-1759345200-1759348800@rodgersbaptist.net
SUMMARY:RBC Student Ministries
DESCRIPTION:Every Wednesday\, our RBC Student Ministries meets upstairs in the youth room for a mid-week Bible Study. All youth in middle and high school are invited to attend.
URL:https://rodgersbaptist.net/event/youth-fusion/2025-10-01/
LOCATION:Rodgers Baptist Church\, 801 W. Buckingham Rd\, Garland\, TX\, 75040\, United States
CATEGORIES:Youth Events
END:VEVENT
BEGIN:VEVENT
DTSTART;TZID=America/Chicago:20250928T190000
DTEND;TZID=America/Chicago:20250928T200000
DTSTAMP:20260419T152130
CREATED:20251026T180121Z
LAST-MODIFIED:20251129T020251Z
UID:10009092-1759086000-1759089600@rodgersbaptist.net
SUMMARY:Bible Clubhouse
DESCRIPTION:All elementary-aged children are welcome to join us for Bible Clubhouse\, a mid-week Bible Study in which kids learn God’s Word while having fun through lessons\, activities\, and games.
URL:https://rodgersbaptist.net/event/bible-clubhouse/2025-09-28/
LOCATION:Rodgers Baptist Church\, 801 W. Buckingham Rd\, Garland\, TX\, 75040\, United States
CATEGORIES:Children's Events
ATTACH;FMTTYPE=image/jpeg:https://rodgersbaptist.net/wp-content/uploads/2025/10/Bible-Clubhouse-Business-Card-US.jpg
END:VEVENT
BEGIN:VEVENT
DTSTART;TZID=America/Chicago:20250928T190000
DTEND;TZID=America/Chicago:20250928T200000
DTSTAMP:20260419T152130
CREATED:20251024T032555Z
LAST-MODIFIED:20251129T020216Z
UID:10009076-1759086000-1759089600@rodgersbaptist.net
SUMMARY:Mid-Week Service
DESCRIPTION:Join our adult Bible Study on Wednesday nights at 7pm in the sanctuary. We are currently studying “Why Trust God: Dealing with Life’s Issues.” \nWhile adults are meeting in the sanctuary\, kids and teens meet in their departments for fellowship and time in God’s Word.
URL:https://rodgersbaptist.net/event/mid-week-service/2025-09-28/
LOCATION:Rodgers Baptist Church\, 801 W. Buckingham Rd\, Garland\, TX\, 75040\, United States
CATEGORIES:All Church Event
END:VEVENT
BEGIN:VEVENT
DTSTART;TZID=America/Chicago:20250928T180000
DTEND;TZID=America/Chicago:20250928T193000
DTSTAMP:20260419T152130
CREATED:20251027T032232Z
LAST-MODIFIED:20260227T030915Z
UID:10008795-1759082400-1759087800@rodgersbaptist.net
SUMMARY:Sunday Evening Worship
DESCRIPTION:Join us in the sanctuary as we end the Lord’s day in the Lord’s house with the Lord’s people. After a time of worship in music we will open God’s Word and then share prayer requests.
URL:https://rodgersbaptist.net/event/sunday-evening-worship-2/2025-09-28/
LOCATION:Rodgers Baptist Church\, 801 W. Buckingham Rd\, Garland\, TX\, 75040\, United States
CATEGORIES:All Church Event
END:VEVENT
BEGIN:VEVENT
DTSTART;TZID=America/Chicago:20250928T103000
DTEND;TZID=America/Chicago:20250928T120000
DTSTAMP:20260419T152130
CREATED:20251027T032148Z
LAST-MODIFIED:20260124T195744Z
UID:10008250-1759055400-1759060800@rodgersbaptist.net
SUMMARY:Sunday Morning Worship
DESCRIPTION:Join us in the sanctuary for a time of worship through music followed by our Sunday morning message series on Jesus the Sovereign Servant in the Gospel of Mark. During this time\, we will also have Junior Church for kids from 4 years old through 1st grade and Children’s Church for kids in 2nd through 5th grade. These classes are held upstairs in the Elementary Department. We also have nursery services available for babies and toddlers in rooms along the front entrance hallway.
URL:https://rodgersbaptist.net/event/sunday-morning-worship-2/2025-09-28/
LOCATION:Rodgers Baptist Church\, 801 W. Buckingham Rd\, Garland\, TX\, 75040\, United States
CATEGORIES:All Church Event
END:VEVENT
BEGIN:VEVENT
DTSTART;TZID=America/Chicago:20250928T091500
DTEND;TZID=America/Chicago:20250928T101000
DTSTAMP:20260419T152130
CREATED:20251027T032628Z
LAST-MODIFIED:20260124T195712Z
UID:10007977-1759050900-1759054200@rodgersbaptist.net
SUMMARY:LIFE Groups
DESCRIPTION:While elementary students are in their Sunday School classes\, teens and adults at Rodgers Baptist Church meet in their LIFE Groups for small group Bible Study. Our LIFE Groups Learn\, Invite\, Fellowship\, and Engage with others in similar life stages as we seek to live out the gospel in our daily lives. \nClasses & Locations\n\n0 to pre-K: Nursery rooms in the front entrance hall\nKindergarten to 5th grade: Elementary department upstairs above the front entrance hall\n6th grade to 12th grade: Youth department upstairs above the fellowship hall\nCrossroads: Upstairs above the fellowship hall\nHomebuilders: Upstairs above the fellowship hall\nAmbassadors: Upstairs above the fellowship hall\nCrusaders I: Fellowship Hall\nCrusaders II: Choir Room
URL:https://rodgersbaptist.net/event/life-groups-sunday-school-2/2025-09-28/
LOCATION:Rodgers Baptist Church\, 801 W. Buckingham Rd\, Garland\, TX\, 75040\, United States
CATEGORIES:All Church Event,Children's Events,LIFE Groups,Youth Events
END:VEVENT
BEGIN:VEVENT
DTSTART;TZID=America/Chicago:20250924T190000
DTEND;TZID=America/Chicago:20250924T200000
DTSTAMP:20260419T152130
CREATED:20251027T032540Z
LAST-MODIFIED:20251129T015951Z
UID:10007968-1758740400-1758744000@rodgersbaptist.net
SUMMARY:Mid-Week Service
DESCRIPTION:Join our adult Bible Study on Wednesday nights at 7pm in the sanctuary. We are currently studying “Why Trust God: Dealing with Life’s Issues.” \nWhile adults are meeting in the sanctuary\, kids and teens meet in their departments for fellowship and time in God’s Word.
URL:https://rodgersbaptist.net/event/mid-week-service-2/2025-09-24/
LOCATION:Rodgers Baptist Church\, 801 W. Buckingham Rd\, Garland\, TX\, 75040\, United States
CATEGORIES:All Church Event
END:VEVENT
BEGIN:VEVENT
DTSTART;TZID=America/Chicago:20250924T190000
DTEND;TZID=America/Chicago:20250924T200000
DTSTAMP:20260419T152130
CREATED:20251027T032506Z
LAST-MODIFIED:20251219T002335Z
UID:10007688-1758740400-1758744000@rodgersbaptist.net
SUMMARY:Bible Clubhouse
DESCRIPTION:All elementary-aged children are welcome to join us for Bible Clubhouse\, a mid-week Bible Study in which kids learn God’s Word while having fun through lessons\, activities\, and games.
URL:https://rodgersbaptist.net/event/bible-clubhouse-2/2025-09-24/
LOCATION:Rodgers Baptist Church\, 801 W. Buckingham Rd\, Garland\, TX\, 75040\, United States
CATEGORIES:Children's Events
ATTACH;FMTTYPE=image/jpeg:https://rodgersbaptist.net/wp-content/uploads/2025/10/Bible-Clubhouse-Business-Card-US.jpg
END:VEVENT
BEGIN:VEVENT
DTSTART;TZID=America/Chicago:20250924T190000
DTEND;TZID=America/Chicago:20250924T200000
DTSTAMP:20260419T152130
CREATED:20251026T180330Z
LAST-MODIFIED:20251219T002309Z
UID:10007147-1758740400-1758744000@rodgersbaptist.net
SUMMARY:RBC Student Ministries
DESCRIPTION:Every Wednesday\, our RBC Student Ministries meets upstairs in the youth room for a mid-week Bible Study. All youth in middle and high school are invited to attend.
URL:https://rodgersbaptist.net/event/youth-fusion/2025-09-24/
LOCATION:Rodgers Baptist Church\, 801 W. Buckingham Rd\, Garland\, TX\, 75040\, United States
CATEGORIES:Youth Events
END:VEVENT
BEGIN:VEVENT
DTSTART;TZID=America/Chicago:20250921T190000
DTEND;TZID=America/Chicago:20250921T200000
DTSTAMP:20260419T152130
CREATED:20251026T180121Z
LAST-MODIFIED:20251129T020251Z
UID:10009091-1758481200-1758484800@rodgersbaptist.net
SUMMARY:Bible Clubhouse
DESCRIPTION:All elementary-aged children are welcome to join us for Bible Clubhouse\, a mid-week Bible Study in which kids learn God’s Word while having fun through lessons\, activities\, and games.
URL:https://rodgersbaptist.net/event/bible-clubhouse/2025-09-21/
LOCATION:Rodgers Baptist Church\, 801 W. Buckingham Rd\, Garland\, TX\, 75040\, United States
CATEGORIES:Children's Events
ATTACH;FMTTYPE=image/jpeg:https://rodgersbaptist.net/wp-content/uploads/2025/10/Bible-Clubhouse-Business-Card-US.jpg
END:VEVENT
BEGIN:VEVENT
DTSTART;TZID=America/Chicago:20250921T190000
DTEND;TZID=America/Chicago:20250921T200000
DTSTAMP:20260419T152130
CREATED:20251024T032555Z
LAST-MODIFIED:20251129T020216Z
UID:10009075-1758481200-1758484800@rodgersbaptist.net
SUMMARY:Mid-Week Service
DESCRIPTION:Join our adult Bible Study on Wednesday nights at 7pm in the sanctuary. We are currently studying “Why Trust God: Dealing with Life’s Issues.” \nWhile adults are meeting in the sanctuary\, kids and teens meet in their departments for fellowship and time in God’s Word.
URL:https://rodgersbaptist.net/event/mid-week-service/2025-09-21/
LOCATION:Rodgers Baptist Church\, 801 W. Buckingham Rd\, Garland\, TX\, 75040\, United States
CATEGORIES:All Church Event
END:VEVENT
BEGIN:VEVENT
DTSTART;TZID=America/Chicago:20250921T180000
DTEND;TZID=America/Chicago:20250921T193000
DTSTAMP:20260419T152130
CREATED:20251027T032232Z
LAST-MODIFIED:20260227T030915Z
UID:10008794-1758477600-1758483000@rodgersbaptist.net
SUMMARY:Sunday Evening Worship
DESCRIPTION:Join us in the sanctuary as we end the Lord’s day in the Lord’s house with the Lord’s people. After a time of worship in music we will open God’s Word and then share prayer requests.
URL:https://rodgersbaptist.net/event/sunday-evening-worship-2/2025-09-21/
LOCATION:Rodgers Baptist Church\, 801 W. Buckingham Rd\, Garland\, TX\, 75040\, United States
CATEGORIES:All Church Event
END:VEVENT
BEGIN:VEVENT
DTSTART;TZID=America/Chicago:20250921T103000
DTEND;TZID=America/Chicago:20250921T120000
DTSTAMP:20260419T152130
CREATED:20251027T032148Z
LAST-MODIFIED:20260124T195744Z
UID:10008249-1758450600-1758456000@rodgersbaptist.net
SUMMARY:Sunday Morning Worship
DESCRIPTION:Join us in the sanctuary for a time of worship through music followed by our Sunday morning message series on Jesus the Sovereign Servant in the Gospel of Mark. During this time\, we will also have Junior Church for kids from 4 years old through 1st grade and Children’s Church for kids in 2nd through 5th grade. These classes are held upstairs in the Elementary Department. We also have nursery services available for babies and toddlers in rooms along the front entrance hallway.
URL:https://rodgersbaptist.net/event/sunday-morning-worship-2/2025-09-21/
LOCATION:Rodgers Baptist Church\, 801 W. Buckingham Rd\, Garland\, TX\, 75040\, United States
CATEGORIES:All Church Event
END:VEVENT
BEGIN:VEVENT
DTSTART;TZID=America/Chicago:20250921T091500
DTEND;TZID=America/Chicago:20250921T101000
DTSTAMP:20260419T152130
CREATED:20251027T032628Z
LAST-MODIFIED:20260124T195712Z
UID:10007976-1758446100-1758449400@rodgersbaptist.net
SUMMARY:LIFE Groups
DESCRIPTION:While elementary students are in their Sunday School classes\, teens and adults at Rodgers Baptist Church meet in their LIFE Groups for small group Bible Study. Our LIFE Groups Learn\, Invite\, Fellowship\, and Engage with others in similar life stages as we seek to live out the gospel in our daily lives. \nClasses & Locations\n\n0 to pre-K: Nursery rooms in the front entrance hall\nKindergarten to 5th grade: Elementary department upstairs above the front entrance hall\n6th grade to 12th grade: Youth department upstairs above the fellowship hall\nCrossroads: Upstairs above the fellowship hall\nHomebuilders: Upstairs above the fellowship hall\nAmbassadors: Upstairs above the fellowship hall\nCrusaders I: Fellowship Hall\nCrusaders II: Choir Room
URL:https://rodgersbaptist.net/event/life-groups-sunday-school-2/2025-09-21/
LOCATION:Rodgers Baptist Church\, 801 W. Buckingham Rd\, Garland\, TX\, 75040\, United States
CATEGORIES:All Church Event,Children's Events,LIFE Groups,Youth Events
END:VEVENT
BEGIN:VEVENT
DTSTART;TZID=America/Chicago:20250917T190000
DTEND;TZID=America/Chicago:20250917T200000
DTSTAMP:20260419T152130
CREATED:20251027T032540Z
LAST-MODIFIED:20251129T015951Z
UID:10007967-1758135600-1758139200@rodgersbaptist.net
SUMMARY:Mid-Week Service
DESCRIPTION:Join our adult Bible Study on Wednesday nights at 7pm in the sanctuary. We are currently studying “Why Trust God: Dealing with Life’s Issues.” \nWhile adults are meeting in the sanctuary\, kids and teens meet in their departments for fellowship and time in God’s Word.
URL:https://rodgersbaptist.net/event/mid-week-service-2/2025-09-17/
LOCATION:Rodgers Baptist Church\, 801 W. Buckingham Rd\, Garland\, TX\, 75040\, United States
CATEGORIES:All Church Event
END:VEVENT
BEGIN:VEVENT
DTSTART;TZID=America/Chicago:20250917T190000
DTEND;TZID=America/Chicago:20250917T200000
DTSTAMP:20260419T152130
CREATED:20251027T032506Z
LAST-MODIFIED:20251219T002335Z
UID:10007687-1758135600-1758139200@rodgersbaptist.net
SUMMARY:Bible Clubhouse
DESCRIPTION:All elementary-aged children are welcome to join us for Bible Clubhouse\, a mid-week Bible Study in which kids learn God’s Word while having fun through lessons\, activities\, and games.
URL:https://rodgersbaptist.net/event/bible-clubhouse-2/2025-09-17/
LOCATION:Rodgers Baptist Church\, 801 W. Buckingham Rd\, Garland\, TX\, 75040\, United States
CATEGORIES:Children's Events
ATTACH;FMTTYPE=image/jpeg:https://rodgersbaptist.net/wp-content/uploads/2025/10/Bible-Clubhouse-Business-Card-US.jpg
END:VEVENT
BEGIN:VEVENT
DTSTART;TZID=America/Chicago:20250917T190000
DTEND;TZID=America/Chicago:20250917T200000
DTSTAMP:20260419T152130
CREATED:20251026T180330Z
LAST-MODIFIED:20251219T002309Z
UID:10007146-1758135600-1758139200@rodgersbaptist.net
SUMMARY:RBC Student Ministries
DESCRIPTION:Every Wednesday\, our RBC Student Ministries meets upstairs in the youth room for a mid-week Bible Study. All youth in middle and high school are invited to attend.
URL:https://rodgersbaptist.net/event/youth-fusion/2025-09-17/
LOCATION:Rodgers Baptist Church\, 801 W. Buckingham Rd\, Garland\, TX\, 75040\, United States
CATEGORIES:Youth Events
END:VEVENT
BEGIN:VEVENT
DTSTART;TZID=America/Chicago:20250914T190000
DTEND;TZID=America/Chicago:20250914T200000
DTSTAMP:20260419T152130
CREATED:20251026T180121Z
LAST-MODIFIED:20251129T020251Z
UID:10009090-1757876400-1757880000@rodgersbaptist.net
SUMMARY:Bible Clubhouse
DESCRIPTION:All elementary-aged children are welcome to join us for Bible Clubhouse\, a mid-week Bible Study in which kids learn God’s Word while having fun through lessons\, activities\, and games.
URL:https://rodgersbaptist.net/event/bible-clubhouse/2025-09-14/
LOCATION:Rodgers Baptist Church\, 801 W. Buckingham Rd\, Garland\, TX\, 75040\, United States
CATEGORIES:Children's Events
ATTACH;FMTTYPE=image/jpeg:https://rodgersbaptist.net/wp-content/uploads/2025/10/Bible-Clubhouse-Business-Card-US.jpg
END:VEVENT
BEGIN:VEVENT
DTSTART;TZID=America/Chicago:20250914T190000
DTEND;TZID=America/Chicago:20250914T200000
DTSTAMP:20260419T152130
CREATED:20251024T032555Z
LAST-MODIFIED:20251129T020216Z
UID:10009074-1757876400-1757880000@rodgersbaptist.net
SUMMARY:Mid-Week Service
DESCRIPTION:Join our adult Bible Study on Wednesday nights at 7pm in the sanctuary. We are currently studying “Why Trust God: Dealing with Life’s Issues.” \nWhile adults are meeting in the sanctuary\, kids and teens meet in their departments for fellowship and time in God’s Word.
URL:https://rodgersbaptist.net/event/mid-week-service/2025-09-14/
LOCATION:Rodgers Baptist Church\, 801 W. Buckingham Rd\, Garland\, TX\, 75040\, United States
CATEGORIES:All Church Event
END:VEVENT
END:VCALENDAR