BEGIN:VCALENDAR
VERSION:2.0
PRODID:-//Rodgers Baptist Church - ECPv6.15.20//NONSGML v1.0//EN
CALSCALE:GREGORIAN
METHOD:PUBLISH
X-WR-CALNAME:Rodgers Baptist Church
X-ORIGINAL-URL:https://rodgersbaptist.net
X-WR-CALDESC:Events for Rodgers Baptist Church
REFRESH-INTERVAL;VALUE=DURATION:PT1H
X-Robots-Tag:noindex
X-PUBLISHED-TTL:PT1H
BEGIN:VTIMEZONE
TZID:America/Chicago
BEGIN:DAYLIGHT
TZOFFSETFROM:-0600
TZOFFSETTO:-0500
TZNAME:CDT
DTSTART:20240310T080000
END:DAYLIGHT
BEGIN:STANDARD
TZOFFSETFROM:-0500
TZOFFSETTO:-0600
TZNAME:CST
DTSTART:20241103T070000
END:STANDARD
BEGIN:DAYLIGHT
TZOFFSETFROM:-0600
TZOFFSETTO:-0500
TZNAME:CDT
DTSTART:20250309T080000
END:DAYLIGHT
BEGIN:STANDARD
TZOFFSETFROM:-0500
TZOFFSETTO:-0600
TZNAME:CST
DTSTART:20251102T070000
END:STANDARD
BEGIN:DAYLIGHT
TZOFFSETFROM:-0600
TZOFFSETTO:-0500
TZNAME:CDT
DTSTART:20260308T080000
END:DAYLIGHT
BEGIN:STANDARD
TZOFFSETFROM:-0500
TZOFFSETTO:-0600
TZNAME:CST
DTSTART:20261101T070000
END:STANDARD
END:VTIMEZONE
BEGIN:VEVENT
DTSTART;TZID=America/Chicago:20250903T190000
DTEND;TZID=America/Chicago:20250903T200000
DTSTAMP:20260419T170432
CREATED:20251027T032540Z
LAST-MODIFIED:20251129T015951Z
UID:10007965-1756926000-1756929600@rodgersbaptist.net
SUMMARY:Mid-Week Service
DESCRIPTION:Join our adult Bible Study on Wednesday nights at 7pm in the sanctuary. We are currently studying “Why Trust God: Dealing with Life’s Issues.” \nWhile adults are meeting in the sanctuary\, kids and teens meet in their departments for fellowship and time in God’s Word.
URL:https://rodgersbaptist.net/event/mid-week-service-2/2025-09-03/
LOCATION:Rodgers Baptist Church\, 801 W. Buckingham Rd\, Garland\, TX\, 75040\, United States
CATEGORIES:All Church Event
END:VEVENT
BEGIN:VEVENT
DTSTART;TZID=America/Chicago:20250903T190000
DTEND;TZID=America/Chicago:20250903T200000
DTSTAMP:20260419T170432
CREATED:20251027T032506Z
LAST-MODIFIED:20251219T002335Z
UID:10007685-1756926000-1756929600@rodgersbaptist.net
SUMMARY:Bible Clubhouse
DESCRIPTION:All elementary-aged children are welcome to join us for Bible Clubhouse\, a mid-week Bible Study in which kids learn God’s Word while having fun through lessons\, activities\, and games.
URL:https://rodgersbaptist.net/event/bible-clubhouse-2/2025-09-03/
LOCATION:Rodgers Baptist Church\, 801 W. Buckingham Rd\, Garland\, TX\, 75040\, United States
CATEGORIES:Children's Events
ATTACH;FMTTYPE=image/jpeg:https://rodgersbaptist.net/wp-content/uploads/2025/10/Bible-Clubhouse-Business-Card-US.jpg
END:VEVENT
BEGIN:VEVENT
DTSTART;TZID=America/Chicago:20250903T190000
DTEND;TZID=America/Chicago:20250903T200000
DTSTAMP:20260419T170432
CREATED:20251026T180330Z
LAST-MODIFIED:20251219T002309Z
UID:10007144-1756926000-1756929600@rodgersbaptist.net
SUMMARY:RBC Student Ministries
DESCRIPTION:Every Wednesday\, our RBC Student Ministries meets upstairs in the youth room for a mid-week Bible Study. All youth in middle and high school are invited to attend.
URL:https://rodgersbaptist.net/event/youth-fusion/2025-09-03/
LOCATION:Rodgers Baptist Church\, 801 W. Buckingham Rd\, Garland\, TX\, 75040\, United States
CATEGORIES:Youth Events
END:VEVENT
END:VCALENDAR