BEGIN:VCALENDAR
VERSION:2.0
PRODID:-//Rodgers Baptist Church - ECPv6.15.20//NONSGML v1.0//EN
CALSCALE:GREGORIAN
METHOD:PUBLISH
X-WR-CALNAME:Rodgers Baptist Church
X-ORIGINAL-URL:https://rodgersbaptist.net
X-WR-CALDESC:Events for Rodgers Baptist Church
REFRESH-INTERVAL;VALUE=DURATION:PT1H
X-Robots-Tag:noindex
X-PUBLISHED-TTL:PT1H
BEGIN:VTIMEZONE
TZID:America/Chicago
BEGIN:DAYLIGHT
TZOFFSETFROM:-0600
TZOFFSETTO:-0500
TZNAME:CDT
DTSTART:20280312T080000
END:DAYLIGHT
BEGIN:STANDARD
TZOFFSETFROM:-0500
TZOFFSETTO:-0600
TZNAME:CST
DTSTART:20281105T070000
END:STANDARD
BEGIN:DAYLIGHT
TZOFFSETFROM:-0600
TZOFFSETTO:-0500
TZNAME:CDT
DTSTART:20290311T080000
END:DAYLIGHT
BEGIN:STANDARD
TZOFFSETFROM:-0500
TZOFFSETTO:-0600
TZNAME:CST
DTSTART:20291104T070000
END:STANDARD
BEGIN:DAYLIGHT
TZOFFSETFROM:-0600
TZOFFSETTO:-0500
TZNAME:CDT
DTSTART:20300310T080000
END:DAYLIGHT
BEGIN:STANDARD
TZOFFSETFROM:-0500
TZOFFSETTO:-0600
TZNAME:CST
DTSTART:20301103T070000
END:STANDARD
END:VTIMEZONE
BEGIN:VEVENT
DTSTART;TZID=America/Chicago:20290527T180000
DTEND;TZID=America/Chicago:20290527T193000
DTSTAMP:20260424T074748
CREATED:20251027T032232Z
LAST-MODIFIED:20260227T030915Z
UID:10008986-1874599200-1874604600@rodgersbaptist.net
SUMMARY:Sunday Evening Worship
DESCRIPTION:Join us in the sanctuary as we end the Lord’s day in the Lord’s house with the Lord’s people. After a time of worship in music we will open God’s Word and then share prayer requests.
URL:https://rodgersbaptist.net/event/sunday-evening-worship-2/2029-05-27/
LOCATION:Rodgers Baptist Church\, 801 W. Buckingham Rd\, Garland\, TX\, 75040\, United States
CATEGORIES:All Church Event
END:VEVENT
BEGIN:VEVENT
DTSTART;TZID=America/Chicago:20290530T190000
DTEND;TZID=America/Chicago:20290530T200000
DTSTAMP:20260424T074748
CREATED:20251026T180330Z
LAST-MODIFIED:20251219T002309Z
UID:10007335-1874862000-1874865600@rodgersbaptist.net
SUMMARY:RBC Student Ministries
DESCRIPTION:Every Wednesday\, our RBC Student Ministries meets upstairs in the youth room for a mid-week Bible Study. All youth in middle and high school are invited to attend.
URL:https://rodgersbaptist.net/event/youth-fusion/2029-05-30/
LOCATION:Rodgers Baptist Church\, 801 W. Buckingham Rd\, Garland\, TX\, 75040\, United States
CATEGORIES:Youth Events
END:VEVENT
BEGIN:VEVENT
DTSTART;TZID=America/Chicago:20290530T190000
DTEND;TZID=America/Chicago:20290530T200000
DTSTAMP:20260424T074748
CREATED:20251027T032506Z
LAST-MODIFIED:20251219T002335Z
UID:10007877-1874862000-1874865600@rodgersbaptist.net
SUMMARY:Bible Clubhouse
DESCRIPTION:All elementary-aged children are welcome to join us for Bible Clubhouse\, a mid-week Bible Study in which kids learn God’s Word while having fun through lessons\, activities\, and games.
URL:https://rodgersbaptist.net/event/bible-clubhouse-2/2029-05-30/
LOCATION:Rodgers Baptist Church\, 801 W. Buckingham Rd\, Garland\, TX\, 75040\, United States
CATEGORIES:Children's Events
ATTACH;FMTTYPE=image/jpeg:https://rodgersbaptist.net/wp-content/uploads/2025/10/Bible-Clubhouse-Business-Card-US.jpg
END:VEVENT
BEGIN:VEVENT
DTSTART;TZID=America/Chicago:20290530T190000
DTEND;TZID=America/Chicago:20290530T200000
DTSTAMP:20260424T074748
CREATED:20251115T151532Z
LAST-MODIFIED:20251214T040917Z
UID:10009566-1874862000-1874865600@rodgersbaptist.net
SUMMARY:Mid-Week Service
DESCRIPTION:Join our adult Bible Study on Wednesday nights at 7pm in the sanctuary. We are currently going through the Focus on the Family series on “Truth Rising.” The Wednesday evening service will not be livestreamed through the duration of this series\, which will go until Wednesday\, December 6th. \nWhile adults are meeting in the sanctuary\, kids and teens meet in their departments for fellowship and time in God’s Word.
URL:https://rodgersbaptist.net/event/mid-week-service-2-2/2029-05-30/
LOCATION:Rodgers Baptist Church\, 801 W. Buckingham Rd\, Garland\, TX\, 75040\, United States
CATEGORIES:All Church Event
END:VEVENT
BEGIN:VEVENT
DTSTART;TZID=America/Chicago:20290603T091500
DTEND;TZID=America/Chicago:20290603T101000
DTSTAMP:20260424T074748
CREATED:20251027T032628Z
LAST-MODIFIED:20260124T195712Z
UID:10008169-1875172500-1875175800@rodgersbaptist.net
SUMMARY:LIFE Groups
DESCRIPTION:While elementary students are in their Sunday School classes\, teens and adults at Rodgers Baptist Church meet in their LIFE Groups for small group Bible Study. Our LIFE Groups Learn\, Invite\, Fellowship\, and Engage with others in similar life stages as we seek to live out the gospel in our daily lives. \nClasses & Locations\n\n0 to pre-K: Nursery rooms in the front entrance hall\nKindergarten to 5th grade: Elementary department upstairs above the front entrance hall\n6th grade to 12th grade: Youth department upstairs above the fellowship hall\nCrossroads: Upstairs above the fellowship hall\nHomebuilders: Upstairs above the fellowship hall\nAmbassadors: Upstairs above the fellowship hall\nCrusaders I: Fellowship Hall\nCrusaders II: Choir Room
URL:https://rodgersbaptist.net/event/life-groups-sunday-school-2/2029-06-03/
LOCATION:Rodgers Baptist Church\, 801 W. Buckingham Rd\, Garland\, TX\, 75040\, United States
CATEGORIES:All Church Event,Children's Events,LIFE Groups,Youth Events
END:VEVENT
BEGIN:VEVENT
DTSTART;TZID=America/Chicago:20290603T103000
DTEND;TZID=America/Chicago:20290603T120000
DTSTAMP:20260424T074748
CREATED:20251027T032148Z
LAST-MODIFIED:20260124T195744Z
UID:10008441-1875177000-1875182400@rodgersbaptist.net
SUMMARY:Sunday Morning Worship
DESCRIPTION:Join us in the sanctuary for a time of worship through music followed by our Sunday morning message series on Jesus the Sovereign Servant in the Gospel of Mark. During this time\, we will also have Junior Church for kids from 4 years old through 1st grade and Children’s Church for kids in 2nd through 5th grade. These classes are held upstairs in the Elementary Department. We also have nursery services available for babies and toddlers in rooms along the front entrance hallway.
URL:https://rodgersbaptist.net/event/sunday-morning-worship-2/2029-06-03/
LOCATION:Rodgers Baptist Church\, 801 W. Buckingham Rd\, Garland\, TX\, 75040\, United States
CATEGORIES:All Church Event
END:VEVENT
BEGIN:VEVENT
DTSTART;TZID=America/Chicago:20290603T180000
DTEND;TZID=America/Chicago:20290603T193000
DTSTAMP:20260424T074748
CREATED:20251027T032232Z
LAST-MODIFIED:20260227T030915Z
UID:10008987-1875204000-1875209400@rodgersbaptist.net
SUMMARY:Sunday Evening Worship
DESCRIPTION:Join us in the sanctuary as we end the Lord’s day in the Lord’s house with the Lord’s people. After a time of worship in music we will open God’s Word and then share prayer requests.
URL:https://rodgersbaptist.net/event/sunday-evening-worship-2/2029-06-03/
LOCATION:Rodgers Baptist Church\, 801 W. Buckingham Rd\, Garland\, TX\, 75040\, United States
CATEGORIES:All Church Event
END:VEVENT
BEGIN:VEVENT
DTSTART;TZID=America/Chicago:20290606T190000
DTEND;TZID=America/Chicago:20290606T200000
DTSTAMP:20260424T074748
CREATED:20251026T180330Z
LAST-MODIFIED:20251219T002309Z
UID:10007336-1875466800-1875470400@rodgersbaptist.net
SUMMARY:RBC Student Ministries
DESCRIPTION:Every Wednesday\, our RBC Student Ministries meets upstairs in the youth room for a mid-week Bible Study. All youth in middle and high school are invited to attend.
URL:https://rodgersbaptist.net/event/youth-fusion/2029-06-06/
LOCATION:Rodgers Baptist Church\, 801 W. Buckingham Rd\, Garland\, TX\, 75040\, United States
CATEGORIES:Youth Events
END:VEVENT
BEGIN:VEVENT
DTSTART;TZID=America/Chicago:20290606T190000
DTEND;TZID=America/Chicago:20290606T200000
DTSTAMP:20260424T074748
CREATED:20251027T032506Z
LAST-MODIFIED:20251219T002335Z
UID:10007878-1875466800-1875470400@rodgersbaptist.net
SUMMARY:Bible Clubhouse
DESCRIPTION:All elementary-aged children are welcome to join us for Bible Clubhouse\, a mid-week Bible Study in which kids learn God’s Word while having fun through lessons\, activities\, and games.
URL:https://rodgersbaptist.net/event/bible-clubhouse-2/2029-06-06/
LOCATION:Rodgers Baptist Church\, 801 W. Buckingham Rd\, Garland\, TX\, 75040\, United States
CATEGORIES:Children's Events
ATTACH;FMTTYPE=image/jpeg:https://rodgersbaptist.net/wp-content/uploads/2025/10/Bible-Clubhouse-Business-Card-US.jpg
END:VEVENT
BEGIN:VEVENT
DTSTART;TZID=America/Chicago:20290606T190000
DTEND;TZID=America/Chicago:20290606T200000
DTSTAMP:20260424T074748
CREATED:20251115T151532Z
LAST-MODIFIED:20251214T040917Z
UID:10009567-1875466800-1875470400@rodgersbaptist.net
SUMMARY:Mid-Week Service
DESCRIPTION:Join our adult Bible Study on Wednesday nights at 7pm in the sanctuary. We are currently going through the Focus on the Family series on “Truth Rising.” The Wednesday evening service will not be livestreamed through the duration of this series\, which will go until Wednesday\, December 6th. \nWhile adults are meeting in the sanctuary\, kids and teens meet in their departments for fellowship and time in God’s Word.
URL:https://rodgersbaptist.net/event/mid-week-service-2-2/2029-06-06/
LOCATION:Rodgers Baptist Church\, 801 W. Buckingham Rd\, Garland\, TX\, 75040\, United States
CATEGORIES:All Church Event
END:VEVENT
BEGIN:VEVENT
DTSTART;TZID=America/Chicago:20290610T091500
DTEND;TZID=America/Chicago:20290610T101000
DTSTAMP:20260424T074748
CREATED:20251027T032628Z
LAST-MODIFIED:20260124T195712Z
UID:10008170-1875777300-1875780600@rodgersbaptist.net
SUMMARY:LIFE Groups
DESCRIPTION:While elementary students are in their Sunday School classes\, teens and adults at Rodgers Baptist Church meet in their LIFE Groups for small group Bible Study. Our LIFE Groups Learn\, Invite\, Fellowship\, and Engage with others in similar life stages as we seek to live out the gospel in our daily lives. \nClasses & Locations\n\n0 to pre-K: Nursery rooms in the front entrance hall\nKindergarten to 5th grade: Elementary department upstairs above the front entrance hall\n6th grade to 12th grade: Youth department upstairs above the fellowship hall\nCrossroads: Upstairs above the fellowship hall\nHomebuilders: Upstairs above the fellowship hall\nAmbassadors: Upstairs above the fellowship hall\nCrusaders I: Fellowship Hall\nCrusaders II: Choir Room
URL:https://rodgersbaptist.net/event/life-groups-sunday-school-2/2029-06-10/
LOCATION:Rodgers Baptist Church\, 801 W. Buckingham Rd\, Garland\, TX\, 75040\, United States
CATEGORIES:All Church Event,Children's Events,LIFE Groups,Youth Events
END:VEVENT
BEGIN:VEVENT
DTSTART;TZID=America/Chicago:20290610T103000
DTEND;TZID=America/Chicago:20290610T120000
DTSTAMP:20260424T074748
CREATED:20251027T032148Z
LAST-MODIFIED:20260124T195744Z
UID:10008442-1875781800-1875787200@rodgersbaptist.net
SUMMARY:Sunday Morning Worship
DESCRIPTION:Join us in the sanctuary for a time of worship through music followed by our Sunday morning message series on Jesus the Sovereign Servant in the Gospel of Mark. During this time\, we will also have Junior Church for kids from 4 years old through 1st grade and Children’s Church for kids in 2nd through 5th grade. These classes are held upstairs in the Elementary Department. We also have nursery services available for babies and toddlers in rooms along the front entrance hallway.
URL:https://rodgersbaptist.net/event/sunday-morning-worship-2/2029-06-10/
LOCATION:Rodgers Baptist Church\, 801 W. Buckingham Rd\, Garland\, TX\, 75040\, United States
CATEGORIES:All Church Event
END:VEVENT
BEGIN:VEVENT
DTSTART;TZID=America/Chicago:20290610T180000
DTEND;TZID=America/Chicago:20290610T193000
DTSTAMP:20260424T074748
CREATED:20251027T032232Z
LAST-MODIFIED:20260227T030915Z
UID:10008988-1875808800-1875814200@rodgersbaptist.net
SUMMARY:Sunday Evening Worship
DESCRIPTION:Join us in the sanctuary as we end the Lord’s day in the Lord’s house with the Lord’s people. After a time of worship in music we will open God’s Word and then share prayer requests.
URL:https://rodgersbaptist.net/event/sunday-evening-worship-2/2029-06-10/
LOCATION:Rodgers Baptist Church\, 801 W. Buckingham Rd\, Garland\, TX\, 75040\, United States
CATEGORIES:All Church Event
END:VEVENT
BEGIN:VEVENT
DTSTART;TZID=America/Chicago:20290613T190000
DTEND;TZID=America/Chicago:20290613T200000
DTSTAMP:20260424T074748
CREATED:20251026T180330Z
LAST-MODIFIED:20251219T002309Z
UID:10007337-1876071600-1876075200@rodgersbaptist.net
SUMMARY:RBC Student Ministries
DESCRIPTION:Every Wednesday\, our RBC Student Ministries meets upstairs in the youth room for a mid-week Bible Study. All youth in middle and high school are invited to attend.
URL:https://rodgersbaptist.net/event/youth-fusion/2029-06-13/
LOCATION:Rodgers Baptist Church\, 801 W. Buckingham Rd\, Garland\, TX\, 75040\, United States
CATEGORIES:Youth Events
END:VEVENT
BEGIN:VEVENT
DTSTART;TZID=America/Chicago:20290613T190000
DTEND;TZID=America/Chicago:20290613T200000
DTSTAMP:20260424T074748
CREATED:20251027T032506Z
LAST-MODIFIED:20251219T002335Z
UID:10007879-1876071600-1876075200@rodgersbaptist.net
SUMMARY:Bible Clubhouse
DESCRIPTION:All elementary-aged children are welcome to join us for Bible Clubhouse\, a mid-week Bible Study in which kids learn God’s Word while having fun through lessons\, activities\, and games.
URL:https://rodgersbaptist.net/event/bible-clubhouse-2/2029-06-13/
LOCATION:Rodgers Baptist Church\, 801 W. Buckingham Rd\, Garland\, TX\, 75040\, United States
CATEGORIES:Children's Events
ATTACH;FMTTYPE=image/jpeg:https://rodgersbaptist.net/wp-content/uploads/2025/10/Bible-Clubhouse-Business-Card-US.jpg
END:VEVENT
BEGIN:VEVENT
DTSTART;TZID=America/Chicago:20290613T190000
DTEND;TZID=America/Chicago:20290613T200000
DTSTAMP:20260424T074748
CREATED:20251115T151532Z
LAST-MODIFIED:20251214T040917Z
UID:10009568-1876071600-1876075200@rodgersbaptist.net
SUMMARY:Mid-Week Service
DESCRIPTION:Join our adult Bible Study on Wednesday nights at 7pm in the sanctuary. We are currently going through the Focus on the Family series on “Truth Rising.” The Wednesday evening service will not be livestreamed through the duration of this series\, which will go until Wednesday\, December 6th. \nWhile adults are meeting in the sanctuary\, kids and teens meet in their departments for fellowship and time in God’s Word.
URL:https://rodgersbaptist.net/event/mid-week-service-2-2/2029-06-13/
LOCATION:Rodgers Baptist Church\, 801 W. Buckingham Rd\, Garland\, TX\, 75040\, United States
CATEGORIES:All Church Event
END:VEVENT
BEGIN:VEVENT
DTSTART;TZID=America/Chicago:20290617T091500
DTEND;TZID=America/Chicago:20290617T101000
DTSTAMP:20260424T074748
CREATED:20251027T032628Z
LAST-MODIFIED:20260124T195712Z
UID:10008171-1876382100-1876385400@rodgersbaptist.net
SUMMARY:LIFE Groups
DESCRIPTION:While elementary students are in their Sunday School classes\, teens and adults at Rodgers Baptist Church meet in their LIFE Groups for small group Bible Study. Our LIFE Groups Learn\, Invite\, Fellowship\, and Engage with others in similar life stages as we seek to live out the gospel in our daily lives. \nClasses & Locations\n\n0 to pre-K: Nursery rooms in the front entrance hall\nKindergarten to 5th grade: Elementary department upstairs above the front entrance hall\n6th grade to 12th grade: Youth department upstairs above the fellowship hall\nCrossroads: Upstairs above the fellowship hall\nHomebuilders: Upstairs above the fellowship hall\nAmbassadors: Upstairs above the fellowship hall\nCrusaders I: Fellowship Hall\nCrusaders II: Choir Room
URL:https://rodgersbaptist.net/event/life-groups-sunday-school-2/2029-06-17/
LOCATION:Rodgers Baptist Church\, 801 W. Buckingham Rd\, Garland\, TX\, 75040\, United States
CATEGORIES:All Church Event,Children's Events,LIFE Groups,Youth Events
END:VEVENT
BEGIN:VEVENT
DTSTART;TZID=America/Chicago:20290617T103000
DTEND;TZID=America/Chicago:20290617T120000
DTSTAMP:20260424T074748
CREATED:20251027T032148Z
LAST-MODIFIED:20260124T195744Z
UID:10008443-1876386600-1876392000@rodgersbaptist.net
SUMMARY:Sunday Morning Worship
DESCRIPTION:Join us in the sanctuary for a time of worship through music followed by our Sunday morning message series on Jesus the Sovereign Servant in the Gospel of Mark. During this time\, we will also have Junior Church for kids from 4 years old through 1st grade and Children’s Church for kids in 2nd through 5th grade. These classes are held upstairs in the Elementary Department. We also have nursery services available for babies and toddlers in rooms along the front entrance hallway.
URL:https://rodgersbaptist.net/event/sunday-morning-worship-2/2029-06-17/
LOCATION:Rodgers Baptist Church\, 801 W. Buckingham Rd\, Garland\, TX\, 75040\, United States
CATEGORIES:All Church Event
END:VEVENT
BEGIN:VEVENT
DTSTART;TZID=America/Chicago:20290617T180000
DTEND;TZID=America/Chicago:20290617T193000
DTSTAMP:20260424T074748
CREATED:20251027T032232Z
LAST-MODIFIED:20260227T030915Z
UID:10008989-1876413600-1876419000@rodgersbaptist.net
SUMMARY:Sunday Evening Worship
DESCRIPTION:Join us in the sanctuary as we end the Lord’s day in the Lord’s house with the Lord’s people. After a time of worship in music we will open God’s Word and then share prayer requests.
URL:https://rodgersbaptist.net/event/sunday-evening-worship-2/2029-06-17/
LOCATION:Rodgers Baptist Church\, 801 W. Buckingham Rd\, Garland\, TX\, 75040\, United States
CATEGORIES:All Church Event
END:VEVENT
BEGIN:VEVENT
DTSTART;TZID=America/Chicago:20290620T190000
DTEND;TZID=America/Chicago:20290620T200000
DTSTAMP:20260424T074748
CREATED:20251026T180330Z
LAST-MODIFIED:20251219T002309Z
UID:10007338-1876676400-1876680000@rodgersbaptist.net
SUMMARY:RBC Student Ministries
DESCRIPTION:Every Wednesday\, our RBC Student Ministries meets upstairs in the youth room for a mid-week Bible Study. All youth in middle and high school are invited to attend.
URL:https://rodgersbaptist.net/event/youth-fusion/2029-06-20/
LOCATION:Rodgers Baptist Church\, 801 W. Buckingham Rd\, Garland\, TX\, 75040\, United States
CATEGORIES:Youth Events
END:VEVENT
BEGIN:VEVENT
DTSTART;TZID=America/Chicago:20290620T190000
DTEND;TZID=America/Chicago:20290620T200000
DTSTAMP:20260424T074748
CREATED:20251027T032506Z
LAST-MODIFIED:20251219T002335Z
UID:10007880-1876676400-1876680000@rodgersbaptist.net
SUMMARY:Bible Clubhouse
DESCRIPTION:All elementary-aged children are welcome to join us for Bible Clubhouse\, a mid-week Bible Study in which kids learn God’s Word while having fun through lessons\, activities\, and games.
URL:https://rodgersbaptist.net/event/bible-clubhouse-2/2029-06-20/
LOCATION:Rodgers Baptist Church\, 801 W. Buckingham Rd\, Garland\, TX\, 75040\, United States
CATEGORIES:Children's Events
ATTACH;FMTTYPE=image/jpeg:https://rodgersbaptist.net/wp-content/uploads/2025/10/Bible-Clubhouse-Business-Card-US.jpg
END:VEVENT
BEGIN:VEVENT
DTSTART;TZID=America/Chicago:20290620T190000
DTEND;TZID=America/Chicago:20290620T200000
DTSTAMP:20260424T074748
CREATED:20251115T151532Z
LAST-MODIFIED:20251214T040917Z
UID:10009569-1876676400-1876680000@rodgersbaptist.net
SUMMARY:Mid-Week Service
DESCRIPTION:Join our adult Bible Study on Wednesday nights at 7pm in the sanctuary. We are currently going through the Focus on the Family series on “Truth Rising.” The Wednesday evening service will not be livestreamed through the duration of this series\, which will go until Wednesday\, December 6th. \nWhile adults are meeting in the sanctuary\, kids and teens meet in their departments for fellowship and time in God’s Word.
URL:https://rodgersbaptist.net/event/mid-week-service-2-2/2029-06-20/
LOCATION:Rodgers Baptist Church\, 801 W. Buckingham Rd\, Garland\, TX\, 75040\, United States
CATEGORIES:All Church Event
END:VEVENT
BEGIN:VEVENT
DTSTART;TZID=America/Chicago:20290624T091500
DTEND;TZID=America/Chicago:20290624T101000
DTSTAMP:20260424T074748
CREATED:20251027T032628Z
LAST-MODIFIED:20260124T195712Z
UID:10008172-1876986900-1876990200@rodgersbaptist.net
SUMMARY:LIFE Groups
DESCRIPTION:While elementary students are in their Sunday School classes\, teens and adults at Rodgers Baptist Church meet in their LIFE Groups for small group Bible Study. Our LIFE Groups Learn\, Invite\, Fellowship\, and Engage with others in similar life stages as we seek to live out the gospel in our daily lives. \nClasses & Locations\n\n0 to pre-K: Nursery rooms in the front entrance hall\nKindergarten to 5th grade: Elementary department upstairs above the front entrance hall\n6th grade to 12th grade: Youth department upstairs above the fellowship hall\nCrossroads: Upstairs above the fellowship hall\nHomebuilders: Upstairs above the fellowship hall\nAmbassadors: Upstairs above the fellowship hall\nCrusaders I: Fellowship Hall\nCrusaders II: Choir Room
URL:https://rodgersbaptist.net/event/life-groups-sunday-school-2/2029-06-24/
LOCATION:Rodgers Baptist Church\, 801 W. Buckingham Rd\, Garland\, TX\, 75040\, United States
CATEGORIES:All Church Event,Children's Events,LIFE Groups,Youth Events
END:VEVENT
BEGIN:VEVENT
DTSTART;TZID=America/Chicago:20290624T103000
DTEND;TZID=America/Chicago:20290624T120000
DTSTAMP:20260424T074748
CREATED:20251027T032148Z
LAST-MODIFIED:20260124T195744Z
UID:10008444-1876991400-1876996800@rodgersbaptist.net
SUMMARY:Sunday Morning Worship
DESCRIPTION:Join us in the sanctuary for a time of worship through music followed by our Sunday morning message series on Jesus the Sovereign Servant in the Gospel of Mark. During this time\, we will also have Junior Church for kids from 4 years old through 1st grade and Children’s Church for kids in 2nd through 5th grade. These classes are held upstairs in the Elementary Department. We also have nursery services available for babies and toddlers in rooms along the front entrance hallway.
URL:https://rodgersbaptist.net/event/sunday-morning-worship-2/2029-06-24/
LOCATION:Rodgers Baptist Church\, 801 W. Buckingham Rd\, Garland\, TX\, 75040\, United States
CATEGORIES:All Church Event
END:VEVENT
BEGIN:VEVENT
DTSTART;TZID=America/Chicago:20290624T180000
DTEND;TZID=America/Chicago:20290624T193000
DTSTAMP:20260424T074748
CREATED:20251027T032232Z
LAST-MODIFIED:20260227T030915Z
UID:10008990-1877018400-1877023800@rodgersbaptist.net
SUMMARY:Sunday Evening Worship
DESCRIPTION:Join us in the sanctuary as we end the Lord’s day in the Lord’s house with the Lord’s people. After a time of worship in music we will open God’s Word and then share prayer requests.
URL:https://rodgersbaptist.net/event/sunday-evening-worship-2/2029-06-24/
LOCATION:Rodgers Baptist Church\, 801 W. Buckingham Rd\, Garland\, TX\, 75040\, United States
CATEGORIES:All Church Event
END:VEVENT
BEGIN:VEVENT
DTSTART;TZID=America/Chicago:20290627T190000
DTEND;TZID=America/Chicago:20290627T200000
DTSTAMP:20260424T074748
CREATED:20251026T180330Z
LAST-MODIFIED:20251219T002309Z
UID:10007339-1877281200-1877284800@rodgersbaptist.net
SUMMARY:RBC Student Ministries
DESCRIPTION:Every Wednesday\, our RBC Student Ministries meets upstairs in the youth room for a mid-week Bible Study. All youth in middle and high school are invited to attend.
URL:https://rodgersbaptist.net/event/youth-fusion/2029-06-27/
LOCATION:Rodgers Baptist Church\, 801 W. Buckingham Rd\, Garland\, TX\, 75040\, United States
CATEGORIES:Youth Events
END:VEVENT
BEGIN:VEVENT
DTSTART;TZID=America/Chicago:20290627T190000
DTEND;TZID=America/Chicago:20290627T200000
DTSTAMP:20260424T074748
CREATED:20251027T032506Z
LAST-MODIFIED:20251219T002335Z
UID:10007881-1877281200-1877284800@rodgersbaptist.net
SUMMARY:Bible Clubhouse
DESCRIPTION:All elementary-aged children are welcome to join us for Bible Clubhouse\, a mid-week Bible Study in which kids learn God’s Word while having fun through lessons\, activities\, and games.
URL:https://rodgersbaptist.net/event/bible-clubhouse-2/2029-06-27/
LOCATION:Rodgers Baptist Church\, 801 W. Buckingham Rd\, Garland\, TX\, 75040\, United States
CATEGORIES:Children's Events
ATTACH;FMTTYPE=image/jpeg:https://rodgersbaptist.net/wp-content/uploads/2025/10/Bible-Clubhouse-Business-Card-US.jpg
END:VEVENT
BEGIN:VEVENT
DTSTART;TZID=America/Chicago:20290627T190000
DTEND;TZID=America/Chicago:20290627T200000
DTSTAMP:20260424T074748
CREATED:20251115T151532Z
LAST-MODIFIED:20251214T040917Z
UID:10009570-1877281200-1877284800@rodgersbaptist.net
SUMMARY:Mid-Week Service
DESCRIPTION:Join our adult Bible Study on Wednesday nights at 7pm in the sanctuary. We are currently going through the Focus on the Family series on “Truth Rising.” The Wednesday evening service will not be livestreamed through the duration of this series\, which will go until Wednesday\, December 6th. \nWhile adults are meeting in the sanctuary\, kids and teens meet in their departments for fellowship and time in God’s Word.
URL:https://rodgersbaptist.net/event/mid-week-service-2-2/2029-06-27/
LOCATION:Rodgers Baptist Church\, 801 W. Buckingham Rd\, Garland\, TX\, 75040\, United States
CATEGORIES:All Church Event
END:VEVENT
BEGIN:VEVENT
DTSTART;TZID=America/Chicago:20290701T091500
DTEND;TZID=America/Chicago:20290701T101000
DTSTAMP:20260424T074748
CREATED:20251027T032628Z
LAST-MODIFIED:20260124T195712Z
UID:10008173-1877591700-1877595000@rodgersbaptist.net
SUMMARY:LIFE Groups
DESCRIPTION:While elementary students are in their Sunday School classes\, teens and adults at Rodgers Baptist Church meet in their LIFE Groups for small group Bible Study. Our LIFE Groups Learn\, Invite\, Fellowship\, and Engage with others in similar life stages as we seek to live out the gospel in our daily lives. \nClasses & Locations\n\n0 to pre-K: Nursery rooms in the front entrance hall\nKindergarten to 5th grade: Elementary department upstairs above the front entrance hall\n6th grade to 12th grade: Youth department upstairs above the fellowship hall\nCrossroads: Upstairs above the fellowship hall\nHomebuilders: Upstairs above the fellowship hall\nAmbassadors: Upstairs above the fellowship hall\nCrusaders I: Fellowship Hall\nCrusaders II: Choir Room
URL:https://rodgersbaptist.net/event/life-groups-sunday-school-2/2029-07-01/
LOCATION:Rodgers Baptist Church\, 801 W. Buckingham Rd\, Garland\, TX\, 75040\, United States
CATEGORIES:All Church Event,Children's Events,LIFE Groups,Youth Events
END:VEVENT
BEGIN:VEVENT
DTSTART;TZID=America/Chicago:20290701T103000
DTEND;TZID=America/Chicago:20290701T120000
DTSTAMP:20260424T074748
CREATED:20251027T032148Z
LAST-MODIFIED:20260124T195744Z
UID:10008445-1877596200-1877601600@rodgersbaptist.net
SUMMARY:Sunday Morning Worship
DESCRIPTION:Join us in the sanctuary for a time of worship through music followed by our Sunday morning message series on Jesus the Sovereign Servant in the Gospel of Mark. During this time\, we will also have Junior Church for kids from 4 years old through 1st grade and Children’s Church for kids in 2nd through 5th grade. These classes are held upstairs in the Elementary Department. We also have nursery services available for babies and toddlers in rooms along the front entrance hallway.
URL:https://rodgersbaptist.net/event/sunday-morning-worship-2/2029-07-01/
LOCATION:Rodgers Baptist Church\, 801 W. Buckingham Rd\, Garland\, TX\, 75040\, United States
CATEGORIES:All Church Event
END:VEVENT
END:VCALENDAR